BEGIN:VCALENDAR
VERSION:2.0
PRODID:-//Discover Downtown Wylie - ECPv6.15.18//NONSGML v1.0//EN
CALSCALE:GREGORIAN
METHOD:PUBLISH
X-ORIGINAL-URL:https://discoverwylie.com
X-WR-CALDESC:Events for Discover Downtown Wylie
REFRESH-INTERVAL;VALUE=DURATION:PT1H
X-Robots-Tag:noindex
X-PUBLISHED-TTL:PT1H
BEGIN:VTIMEZONE
TZID:America/Chicago
BEGIN:DAYLIGHT
TZOFFSETFROM:-0600
TZOFFSETTO:-0500
TZNAME:CDT
DTSTART:20240310T080000
END:DAYLIGHT
BEGIN:STANDARD
TZOFFSETFROM:-0500
TZOFFSETTO:-0600
TZNAME:CST
DTSTART:20241103T070000
END:STANDARD
BEGIN:DAYLIGHT
TZOFFSETFROM:-0600
TZOFFSETTO:-0500
TZNAME:CDT
DTSTART:20250309T080000
END:DAYLIGHT
BEGIN:STANDARD
TZOFFSETFROM:-0500
TZOFFSETTO:-0600
TZNAME:CST
DTSTART:20251102T070000
END:STANDARD
BEGIN:DAYLIGHT
TZOFFSETFROM:-0600
TZOFFSETTO:-0500
TZNAME:CDT
DTSTART:20260308T080000
END:DAYLIGHT
BEGIN:STANDARD
TZOFFSETFROM:-0500
TZOFFSETTO:-0600
TZNAME:CST
DTSTART:20261101T070000
END:STANDARD
END:VTIMEZONE
BEGIN:VEVENT
DTSTART;TZID=America/Chicago:20251115T090000
DTEND;TZID=America/Chicago:20251115T130000
DTSTAMP:20260421T231514
CREATED:20250909T212738Z
LAST-MODIFIED:20250909T212738Z
UID:10447-1763197200-1763211600@discoverwylie.com
SUMMARY:Wylie Farmers Market
DESCRIPTION:Join us for a holiday inspired Wylie Farmers Market in Historic Downtown Wylie at Olde City Park on Saturday\, November 15th from 9am -1pm! Come meet our farmers\, artisans\, bakers\, and a few incredible non profits\, and help us in supporting our small and local businesses up and down Ballard Ave while doing some early holiday shopping!  \nNovember 15\, 2025 \n9am – 1pm
URL:https://discoverwylie.com/events/wylie-farmers-market-6/
LOCATION:Olde City Park\, 112 S Ballard Ave\, Wylie\, TX\, 75098\, United States
CATEGORIES:Arts and Crafts,Farmers Market,Food,Holiday,Shop,Vendors
ATTACH;FMTTYPE=image/jpeg:https://discoverwylie.com/wp-content/uploads/2025/09/WFM-HOLIDAY-1115.jpeg
END:VEVENT
BEGIN:VEVENT
DTSTART;TZID=America/Chicago:20251115T140000
DTEND;TZID=America/Chicago:20251115T160000
DTSTAMP:20260421T231514
CREATED:20251015T025141Z
LAST-MODIFIED:20251015T025141Z
UID:10740-1763215200-1763222400@discoverwylie.com
SUMMARY:Twysted Bristles Canvas Event
DESCRIPTION:Following the simple step-by-step guided instruction\, you are sure to create a piece that you will be proud to use and display\, or gift to someone you love.
URL:https://discoverwylie.com/events/twysted-bristles-canvas-event/
LOCATION:Landon Winery\, 103 N. Ballard Ave\, Wylie\, TX\, 75098\, United States
CATEGORIES:Arts and Crafts,Paint,Wine
ATTACH;FMTTYPE=image/jpeg:https://discoverwylie.com/wp-content/uploads/2025/10/Canvas-Painting.jpg
END:VEVENT
BEGIN:VEVENT
DTSTART;TZID=America/Chicago:20251118T183000
DTEND;TZID=America/Chicago:20251118T203000
DTSTAMP:20260421T231514
CREATED:20251105T194231Z
LAST-MODIFIED:20251105T194231Z
UID:10874-1763490600-1763497800@discoverwylie.com
SUMMARY:From Basic to Boho - Pumpkins with Personality
DESCRIPTION:Our Boho Pumpkins are the ultimate fall vibe—wrapped in rich\, colorful fabrics and topped with whimsical accents that make each one totally unique.\nPerfect for adding a touch of cozy charm to your home\, gifting to a friend\, or showcasing your DIY flair. Whether your style is rustic\, chic\, or bold\, these pumpkins bring the perfect blend of bohemian beauty and autumn magic.\nBring your friend and let’s get into the fall vibes!
URL:https://discoverwylie.com/events/from-basic-to-boho-pumpkins-with-personality/
LOCATION:Landon Winery\, 103 N. Ballard Ave\, Wylie\, TX\, 75098\, United States
CATEGORIES:Arts and Crafts,DIY,Wine
ATTACH;FMTTYPE=image/jpeg:https://discoverwylie.com/wp-content/uploads/2025/11/Boho-Pumpkin.jpg
END:VEVENT
END:VCALENDAR