BEGIN:VCALENDAR
VERSION:2.0
PRODID:-//Discover Downtown Wylie - ECPv6.15.18//NONSGML v1.0//EN
CALSCALE:GREGORIAN
METHOD:PUBLISH
X-ORIGINAL-URL:https://discoverwylie.com
X-WR-CALDESC:Events for Discover Downtown Wylie
REFRESH-INTERVAL;VALUE=DURATION:PT1H
X-Robots-Tag:noindex
X-PUBLISHED-TTL:PT1H
BEGIN:VTIMEZONE
TZID:America/Chicago
BEGIN:DAYLIGHT
TZOFFSETFROM:-0600
TZOFFSETTO:-0500
TZNAME:CDT
DTSTART:20250309T080000
END:DAYLIGHT
BEGIN:STANDARD
TZOFFSETFROM:-0500
TZOFFSETTO:-0600
TZNAME:CST
DTSTART:20251102T070000
END:STANDARD
BEGIN:DAYLIGHT
TZOFFSETFROM:-0600
TZOFFSETTO:-0500
TZNAME:CDT
DTSTART:20260308T080000
END:DAYLIGHT
BEGIN:STANDARD
TZOFFSETFROM:-0500
TZOFFSETTO:-0600
TZNAME:CST
DTSTART:20261101T070000
END:STANDARD
BEGIN:DAYLIGHT
TZOFFSETFROM:-0600
TZOFFSETTO:-0500
TZNAME:CDT
DTSTART:20270314T080000
END:DAYLIGHT
BEGIN:STANDARD
TZOFFSETFROM:-0500
TZOFFSETTO:-0600
TZNAME:CST
DTSTART:20271107T070000
END:STANDARD
END:VTIMEZONE
BEGIN:VEVENT
DTSTART;TZID=America/Chicago:20260303T180000
DTEND;TZID=America/Chicago:20260303T200000
DTSTAMP:20260421T164541
CREATED:20260220T003347Z
LAST-MODIFIED:20260220T003347Z
UID:11306-1772560800-1772568000@discoverwylie.com
SUMMARY:Chunky Knit Bunny Workshop
DESCRIPTION:Join us for a Chunky Knit Bunny Workshop where you’ll sip wine\, laugh a little louder\, and create an adorable plush bunny that’s perfect for spring décor (or gifting if you can bear to part with it!). These soft\, chunky bunnies are beginner-friendly\, totally customizable\, and seriously impossible not to hug.
URL:https://discoverwylie.com/events/chunky-knit-bunny-workshop/
LOCATION:Landon Winery\, 103 N. Ballard Ave\, Wylie\, TX\, 75098\, United States
CATEGORIES:Arts and Crafts,Wine
ATTACH;FMTTYPE=image/jpeg:https://discoverwylie.com/wp-content/uploads/2026/02/Bunnies-Wylie.jpg
END:VEVENT
BEGIN:VEVENT
DTSTART;TZID=America/Chicago:20260308T140000
DTEND;TZID=America/Chicago:20260308T160000
DTSTAMP:20260421T164541
CREATED:20260218T192604Z
LAST-MODIFIED:20260218T192604Z
UID:11289-1772978400-1772985600@discoverwylie.com
SUMMARY:Create Your Own Welcome Mat
DESCRIPTION:Bring your good vibes and creativity—we’ll provide all the supplies! Design your own custom Welcome Doormat with seasonal favorites or everyday styles. No experience needed\, just come ready to have fun. \n$35 per person
URL:https://discoverwylie.com/events/create-your-own-welcome-mat/
LOCATION:Landon Winery\, 103 N. Ballard Ave\, Wylie\, TX\, 75098\, United States
CATEGORIES:Arts and Crafts,Wine
ATTACH;FMTTYPE=image/jpeg:https://discoverwylie.com/wp-content/uploads/2026/02/Doormat-WS.jpg
END:VEVENT
END:VCALENDAR