BEGIN:VCALENDAR
VERSION:2.0
PRODID:-//Discover Downtown Wylie - ECPv6.15.18//NONSGML v1.0//EN
CALSCALE:GREGORIAN
METHOD:PUBLISH
X-WR-CALNAME:Discover Downtown Wylie
X-ORIGINAL-URL:https://discoverwylie.com
X-WR-CALDESC:Events for Discover Downtown Wylie
REFRESH-INTERVAL;VALUE=DURATION:PT1H
X-Robots-Tag:noindex
X-PUBLISHED-TTL:PT1H
BEGIN:VTIMEZONE
TZID:America/Chicago
BEGIN:DAYLIGHT
TZOFFSETFROM:-0600
TZOFFSETTO:-0500
TZNAME:CDT
DTSTART:20240310T080000
END:DAYLIGHT
BEGIN:STANDARD
TZOFFSETFROM:-0500
TZOFFSETTO:-0600
TZNAME:CST
DTSTART:20241103T070000
END:STANDARD
BEGIN:DAYLIGHT
TZOFFSETFROM:-0600
TZOFFSETTO:-0500
TZNAME:CDT
DTSTART:20250309T080000
END:DAYLIGHT
BEGIN:STANDARD
TZOFFSETFROM:-0500
TZOFFSETTO:-0600
TZNAME:CST
DTSTART:20251102T070000
END:STANDARD
BEGIN:DAYLIGHT
TZOFFSETFROM:-0600
TZOFFSETTO:-0500
TZNAME:CDT
DTSTART:20260308T080000
END:DAYLIGHT
BEGIN:STANDARD
TZOFFSETFROM:-0500
TZOFFSETTO:-0600
TZNAME:CST
DTSTART:20261101T070000
END:STANDARD
BEGIN:DAYLIGHT
TZOFFSETFROM:-0600
TZOFFSETTO:-0500
TZNAME:CDT
DTSTART:20270314T080000
END:DAYLIGHT
BEGIN:STANDARD
TZOFFSETFROM:-0500
TZOFFSETTO:-0600
TZNAME:CST
DTSTART:20271107T070000
END:STANDARD
END:VTIMEZONE
BEGIN:VEVENT
DTSTART;TZID=America/Chicago:20260419T143000
DTEND;TZID=America/Chicago:20260419T163000
DTSTAMP:20260421T162804
CREATED:20260330T182545Z
LAST-MODIFIED:20260330T182545Z
UID:11506-1776609000-1776616200@discoverwylie.com
SUMMARY:Book Club @ Glen Echo Brewing
DESCRIPTION:Open to all men & women 21+. This monthly book club focuses on the thriller or suspense genre. All participants are encouraged to finish the book prior to the meeting; however\, this is not a requirement. Members are encouraged to bring a small snack to share. Book for this month: The Deepest Lake by Andromeda Romano-Lax.
URL:https://discoverwylie.com/events/book-club-glen-echo-brewing/
LOCATION:Glen Echo Brewing\, 106 N Birmingham\, Wylie\, TX\, 75098\, United States
CATEGORIES:Beer,Books
ATTACH;FMTTYPE=image/png:https://discoverwylie.com/wp-content/uploads/2026/03/IMG_0656.png
END:VEVENT
BEGIN:VEVENT
DTSTART;TZID=America/Chicago:20260418T183000
DTEND;TZID=America/Chicago:20260418T203000
DTSTAMP:20260421T162804
CREATED:20260330T181615Z
LAST-MODIFIED:20260330T181615Z
UID:11497-1776537000-1776544200@discoverwylie.com
SUMMARY:Line Dancing
DESCRIPTION:Line-Dancing Class with instructor Diane Barriere\, Free! Bring your dancing boots and grab some friends for a fun night of dancing on the patio. Try our brewed-on-site beers and seltzers along with wood-fired pizza available from Pizza Di Vaio. This is the perfect date night! (Will be inside in event of rain).
URL:https://discoverwylie.com/events/line-dancing-2/
LOCATION:Glen Echo Brewing\, 106 N Birmingham\, Wylie\, TX\, 75098\, United States
CATEGORIES:Beer,Dance
ATTACH;FMTTYPE=image/png:https://discoverwylie.com/wp-content/uploads/2026/03/IMG_0650.png
END:VEVENT
BEGIN:VEVENT
DTSTART;TZID=America/Chicago:20260411T183000
DTEND;TZID=America/Chicago:20260411T203000
DTSTAMP:20260421T162804
CREATED:20260330T181418Z
LAST-MODIFIED:20260330T181418Z
UID:11494-1775932200-1775939400@discoverwylie.com
SUMMARY:Line Dancing
DESCRIPTION:Line-Dancing Class with instructor Diane Barriere\, Free! Bring your dancing boots and grab some friends for a fun night of dancing on the patio. Try our brewed-on-site beers and seltzers along with wood-fired pizza available from Pizza Di Vaio. This is the perfect date night! (Will be inside in event of rain).
URL:https://discoverwylie.com/events/line-dancing/
LOCATION:Glen Echo Brewing\, 106 N Birmingham\, Wylie\, TX\, 75098\, United States
CATEGORIES:Beer,Dance
ATTACH;FMTTYPE=image/png:https://discoverwylie.com/wp-content/uploads/2026/03/IMG_0648.png
END:VEVENT
BEGIN:VEVENT
DTSTART;TZID=America/Chicago:20260322T150000
DTEND;TZID=America/Chicago:20260322T170000
DTSTAMP:20260421T162804
CREATED:20260224T160134Z
LAST-MODIFIED:20260224T160134Z
UID:11339-1774191600-1774198800@discoverwylie.com
SUMMARY:Beer Choir
DESCRIPTION:Two pros lead everyone in learning songs about beer. No sign up\, just show up!
URL:https://discoverwylie.com/events/beer-choir/
LOCATION:Glen Echo Brewing\, 106 N Birmingham\, Wylie\, TX\, 75098\, United States
CATEGORIES:Beer,Music
ATTACH;FMTTYPE=image/png:https://discoverwylie.com/wp-content/uploads/2026/02/IMG_0119.png
END:VEVENT
BEGIN:VEVENT
DTSTART;TZID=America/Chicago:20260315T143000
DTEND;TZID=America/Chicago:20260315T163000
DTSTAMP:20260421T162804
CREATED:20260224T160611Z
LAST-MODIFIED:20260224T160611Z
UID:11342-1773585000-1773592200@discoverwylie.com
SUMMARY:Book Club
DESCRIPTION:Open to all men and women 21+. The book club meets monthly in the tap room to discuss that month’s book. All participants should try to finish the book prior to the meeting; however\, this is not a requirement. Books are selected based on recommendations from the group. Members are encouraged to bring a small snack to share.
URL:https://discoverwylie.com/events/book-club/
LOCATION:Glen Echo Brewing\, 106 N Birmingham\, Wylie\, TX\, 75098\, United States
CATEGORIES:Beer
ATTACH;FMTTYPE=image/png:https://discoverwylie.com/wp-content/uploads/2026/02/IMG_0120.png
END:VEVENT
BEGIN:VEVENT
DTSTART;TZID=America/Chicago:20260314T170000
DTEND;TZID=America/Chicago:20260314T220000
DTSTAMP:20260421T162804
CREATED:20260224T154331Z
LAST-MODIFIED:20260224T154331Z
UID:11326-1773507600-1773525600@discoverwylie.com
SUMMARY:St. Paddy’s Party & Beard Battle
DESCRIPTION:Calling all bearded men! Celebrate St. Paddy‘s Day at the brewery with green beer\, corned beef and cabbage\, and our first-ever beard competition. Sign in starts at 5:30 with the judging to begin at 6:15. The three categories are: best full beard\, best partial beard or mustache\, and best crafted beard. Medals will be awarded to the winners.
URL:https://discoverwylie.com/events/st-paddys-party-beard-battle/
LOCATION:Glen Echo Brewing\, 106 N Birmingham\, Wylie\, TX\, 75098\, United States
CATEGORIES:Beer,St Patrick's Day
ATTACH;FMTTYPE=image/png:https://discoverwylie.com/wp-content/uploads/2026/02/IMG_0112.png
END:VEVENT
BEGIN:VEVENT
DTSTART;TZID=America/Chicago:20260305T183000
DTEND;TZID=America/Chicago:20260305T203000
DTSTAMP:20260421T162804
CREATED:20260224T161053Z
LAST-MODIFIED:20260224T161053Z
UID:11345-1772735400-1772742600@discoverwylie.com
SUMMARY:Weekly Trivia Night
DESCRIPTION:Every Wednesday is trivia at Glen Echo Brewing from 6:30 to 8:30. The trivia is fast-paced\, professionally led by Headtilt Entertainment. Trivia is free to play with prizes. Bring your coworkers\, your friends\, your dog\, and outside food too.
URL:https://discoverwylie.com/events/weekly-trivia-night/
LOCATION:Glen Echo Brewing\, 106 N Birmingham\, Wylie\, TX\, 75098\, United States
CATEGORIES:Beer
ATTACH;FMTTYPE=image/png:https://discoverwylie.com/wp-content/uploads/2026/02/IMG_0121.png
END:VEVENT
BEGIN:VEVENT
DTSTART;TZID=America/Chicago:20260212T170000
DTEND;TZID=America/Chicago:20260212T210000
DTSTAMP:20260421T162804
CREATED:20260117T181332Z
LAST-MODIFIED:20260117T181332Z
UID:11126-1770915600-1770930000@discoverwylie.com
SUMMARY:Galentine's Nite at Glen Echo
DESCRIPTION:It’s Galentines. The boys will be fine. \nTwo pours of beer or seltzer. A charcuterie spread to share time with the ladies. Wild Welds permanent jewelry pop up. \nReservation required.
URL:https://discoverwylie.com/events/galentines-nite-at-glen-echo/
LOCATION:Glen Echo Brewing\, 106 N Birmingham\, Wylie\, TX\, 75098\, United States
CATEGORIES:Beer,Galentine's,Permanent Jewelry,Valentine's
ATTACH;FMTTYPE=image/png:https://discoverwylie.com/wp-content/uploads/2026/01/IMG_9810.png
END:VEVENT
BEGIN:VEVENT
DTSTART;TZID=America/Chicago:20260207T130000
DTEND;TZID=America/Chicago:20260207T150000
DTSTAMP:20260421T162804
CREATED:20260113T223054Z
LAST-MODIFIED:20260113T223054Z
UID:11089-1770469200-1770476400@discoverwylie.com
SUMMARY:Paints and Pints Party
DESCRIPTION:Tracey Denton of Inspired Canvas joins us in the brewery to teach YOU and a PARTNER how to create this double canvas sunset! \nIncludes instruction for two\, supplies for two\, and two pours\, $75. Pizza available in the taproom for purchase.
URL:https://discoverwylie.com/events/paints-and-pints-party-2/
LOCATION:Glen Echo Brewing\, 106 N Birmingham\, Wylie\, TX\, 75098\, United States
CATEGORIES:Beer,Paint
ATTACH;FMTTYPE=image/png:https://discoverwylie.com/wp-content/uploads/2026/01/IMG_9747.png
END:VEVENT
BEGIN:VEVENT
DTSTART;TZID=America/Chicago:20260124T200000
DTEND;TZID=America/Chicago:20260124T211500
DTSTAMP:20260421T162804
CREATED:20260113T215349Z
LAST-MODIFIED:20260113T215349Z
UID:11082-1769284800-1769289300@discoverwylie.com
SUMMARY:Comedy on Tap
DESCRIPTION:Live Comedy with four\, stand-up comics. Tickets are $7 in advance https://commerce.arryved.com/location/BQO_XjHU or $10 at the door. Text your friends\, and make a night of it!
URL:https://discoverwylie.com/events/comedy-on-tap/
LOCATION:Glen Echo Brewing\, 106 N Birmingham\, Wylie\, TX\, 75098\, United States
CATEGORIES:Beer,Comedy
ATTACH;FMTTYPE=image/png:https://discoverwylie.com/wp-content/uploads/2026/01/Comedy-on-tap-jan-1.png
END:VEVENT
BEGIN:VEVENT
DTSTART;TZID=America/Chicago:20251231T160000
DTEND;TZID=America/Chicago:20251231T210000
DTSTAMP:20260421T162804
CREATED:20251215T211132Z
LAST-MODIFIED:20251215T211132Z
UID:11016-1767196800-1767214800@discoverwylie.com
SUMMARY:Midnight in Munich
DESCRIPTION:Midnight in Munich @ Glen Echo Brewing\, a NYE locally. We will countdown to Munich midnight (5 pm) and then play Music Bingo.
URL:https://discoverwylie.com/events/midnight-in-munich/
LOCATION:Glen Echo Brewing\, 106 N Birmingham\, Wylie\, TX\, 75098\, United States
CATEGORIES:Beer,Celebration,Holiday
ATTACH;FMTTYPE=image/png:https://discoverwylie.com/wp-content/uploads/2025/12/Copy-of-25-NYE-Munich-Instagram-Post.png
END:VEVENT
BEGIN:VEVENT
DTSTART;TZID=America/Chicago:20251227T180000
DTEND;TZID=America/Chicago:20251227T200000
DTSTAMP:20260421T162804
CREATED:20251031T142214Z
LAST-MODIFIED:20251031T142214Z
UID:10806-1766858400-1766865600@discoverwylie.com
SUMMARY:FREE Line-Dancing Class
DESCRIPTION:Diane Barriere will be teaching a line-dance class. Bring your boots and a partner\, or find one here! Food truck serving dinner\, and we’ve got beer and seltzer.
URL:https://discoverwylie.com/events/free-line-dancing-class-4/
LOCATION:Glen Echo Brewing\, 106 N Birmingham\, Wylie\, TX\, 75098\, United States
CATEGORIES:Beer,Dance
ATTACH;FMTTYPE=image/png:https://discoverwylie.com/wp-content/uploads/2025/10/Line-Dance-event-27.png
END:VEVENT
BEGIN:VEVENT
DTSTART;TZID=America/Chicago:20251213T180000
DTEND;TZID=America/Chicago:20251213T200000
DTSTAMP:20260421T162804
CREATED:20251031T142052Z
LAST-MODIFIED:20251031T142052Z
UID:10803-1765648800-1765656000@discoverwylie.com
SUMMARY:FREE Line-Dancing Class
DESCRIPTION:Diane Barriere will be teaching a line-dance class. Bring your boots and a partner\, or find one here! Food truck serving dinner\, and we’ve got beer and seltzer.
URL:https://discoverwylie.com/events/free-line-dancing-class-3/
LOCATION:Glen Echo Brewing\, 106 N Birmingham\, Wylie\, TX\, 75098\, United States
CATEGORIES:Beer,Dance
ATTACH;FMTTYPE=image/png:https://discoverwylie.com/wp-content/uploads/2025/10/Line-Dance-event-13.png
END:VEVENT
BEGIN:VEVENT
DTSTART;TZID=America/Chicago:20251211T173000
DTEND;TZID=America/Chicago:20251211T193000
DTSTAMP:20260421T162804
CREATED:20251031T143951Z
LAST-MODIFIED:20251031T143951Z
UID:10809-1765474200-1765481400@discoverwylie.com
SUMMARY:Santa comes to the Brewery
DESCRIPTION:The real-deal Santa is stopping his sleigh at the brewery for a cold one and pictures with you\, your family\, your friends\, and even your fur babies. FREE. No sign-up required\, but get here early! FOOD TRUCK: Dragon Burger House serving dinner.
URL:https://discoverwylie.com/events/santa-comes-to-the-brewery/
LOCATION:Glen Echo Brewing\, 106 N Birmingham\, Wylie\, TX\, 75098\, United States
CATEGORIES:Beer,Christmas,Food Truck,Holiday,Santa
ATTACH;FMTTYPE=image/png:https://discoverwylie.com/wp-content/uploads/2025/10/Santa-comes-to-your-brewery-1.png
END:VEVENT
BEGIN:VEVENT
DTSTART;TZID=America/Chicago:20251205T180000
DTEND;TZID=America/Chicago:20251205T183000
DTSTAMP:20260421T162804
CREATED:20251031T144309Z
LAST-MODIFIED:20251031T144309Z
UID:10812-1764957600-1764959400@discoverwylie.com
SUMMARY:Food Truck Friday
DESCRIPTION:The CPKC Concert Train will be stopping across from Glen Echo Brewing with a 30-minute performance by Dylan Marlow and Emily Ann Roberts. Have a seat on our patio\, grab a beer\, and stay for FOOD TRUCK Friday with La TacoTrona.
URL:https://discoverwylie.com/events/food-truck-friday/
LOCATION:Glen Echo Brewing\, 106 N Birmingham\, Wylie\, TX\, 75098\, United States
CATEGORIES:Beer,Christmas,Food Truck,Music
ATTACH;FMTTYPE=image/png:https://discoverwylie.com/wp-content/uploads/2025/10/Christmas-CONCERT-Train-8-4.png
END:VEVENT
BEGIN:VEVENT
DTSTART;TZID=America/Chicago:20251129T180000
DTEND;TZID=America/Chicago:20251129T200000
DTSTAMP:20260421T162804
CREATED:20251031T141845Z
LAST-MODIFIED:20251031T141845Z
UID:10800-1764439200-1764446400@discoverwylie.com
SUMMARY:FREE Line-Dancing Class
DESCRIPTION:Diane Barriere will be teaching a line-dance class\, probably out on the patio. Bring your boots and a partner\, or find one here! Food truck serving dinner\, and we’ve got beer and seltzer.
URL:https://discoverwylie.com/events/free-line-dancing-class-2/
LOCATION:Glen Echo Brewing\, 106 N Birmingham\, Wylie\, TX\, 75098\, United States
CATEGORIES:Beer,Dance
ATTACH;FMTTYPE=image/png:https://discoverwylie.com/wp-content/uploads/2025/10/Line-Dance-event-29.png
END:VEVENT
BEGIN:VEVENT
DTSTART;TZID=America/Chicago:20251115T180000
DTEND;TZID=America/Chicago:20251115T200000
DTSTAMP:20260421T162804
CREATED:20251031T141631Z
LAST-MODIFIED:20251031T141631Z
UID:10797-1763229600-1763236800@discoverwylie.com
SUMMARY:FREE Line-Dancing Class
DESCRIPTION:Diane Barriere will be teaching a line-dance class\, probably out on the patio. Bring your boots and a partner\, or find one here! Food truck serving dinner\, and we’ve got beer and seltzer.
URL:https://discoverwylie.com/events/free-line-dancing-class/
LOCATION:Glen Echo Brewing\, 106 N Birmingham\, Wylie\, TX\, 75098\, United States
CATEGORIES:Beer,Dance
ATTACH;FMTTYPE=image/png:https://discoverwylie.com/wp-content/uploads/2025/10/Line-Dance-event-15.png
END:VEVENT
BEGIN:VEVENT
DTSTART;TZID=America/Chicago:20251031T180000
DTEND;TZID=America/Chicago:20251031T220000
DTSTAMP:20260421T162804
CREATED:20251010T144209Z
LAST-MODIFIED:20251010T144209Z
UID:10725-1761933600-1761948000@discoverwylie.com
SUMMARY:Halloween Costume Party
DESCRIPTION:Adults only! \nDrinks\, Fry Pies\, Music and Fun
URL:https://discoverwylie.com/events/halloween-costume-party/
LOCATION:Glen Echo Brewing\, 106 N Birmingham\, Wylie\, TX\, 75098\, United States
CATEGORIES:Beer,Holiday
ATTACH;FMTTYPE=image/png:https://discoverwylie.com/wp-content/uploads/2025/10/IMG_8349.png
END:VEVENT
BEGIN:VEVENT
DTSTART;TZID=America/Chicago:20251011T130000
DTEND;TZID=America/Chicago:20251011T150000
DTSTAMP:20260421T162804
CREATED:20250830T011243Z
LAST-MODIFIED:20250830T011354Z
UID:10335-1760187600-1760194800@discoverwylie.com
SUMMARY:Paints & Pints Party
DESCRIPTION:Tracy Denton of inspired Canvas \nSaturday\, October 11\, 1pm-3pm \n$45 includes supplies\, instruction & your first pint of beer or seltzer
URL:https://discoverwylie.com/events/paints-pints-party/
LOCATION:Glen Echo Brewing\, 106 N Birmingham\, Wylie\, TX\, 75098\, United States
CATEGORIES:Beer,Paint
ATTACH;FMTTYPE=image/png:https://discoverwylie.com/wp-content/uploads/2025/08/Halloween-inspired-facebook-2-1.png
END:VEVENT
BEGIN:VEVENT
DTSTART;TZID=America/Chicago:20251005T120000
DTEND;TZID=America/Chicago:20251005T180000
DTSTAMP:20260421T162804
CREATED:20250823T012655Z
LAST-MODIFIED:20250830T011514Z
UID:10274-1759665600-1759687200@discoverwylie.com
SUMMARY:Oktoberfest
DESCRIPTION:Oktoberfest @ Glen Echo Brewing\nOctober 3\, 4\, & 5
URL:https://discoverwylie.com/events/oktoberfest-glen-echo-brewing-3/
LOCATION:Glen Echo Brewing\, 106 N Birmingham\, Wylie\, TX\, 75098\, United States
CATEGORIES:Beer,Food,Music,Vendors
ATTACH;FMTTYPE=image/png:https://discoverwylie.com/wp-content/uploads/2025/08/IMG_8219.png
END:VEVENT
BEGIN:VEVENT
DTSTART;TZID=America/Chicago:20251004T120000
DTEND;TZID=America/Chicago:20251004T230000
DTSTAMP:20260421T162804
CREATED:20250823T012421Z
LAST-MODIFIED:20250830T011611Z
UID:10271-1759579200-1759618800@discoverwylie.com
SUMMARY:Oktoberfest
DESCRIPTION:Oktoberfest @ Glen Echo Brewing\nOctober 3\, 4\, & 5\nDetailed schedule and event photo attached.
URL:https://discoverwylie.com/events/oktoberfest-glen-echo-brewing-2/
LOCATION:Glen Echo Brewing\, 106 N Birmingham\, Wylie\, TX\, 75098\, United States
CATEGORIES:Beer,Food,Music,Vendors
ATTACH;FMTTYPE=image/png:https://discoverwylie.com/wp-content/uploads/2025/08/IMG_8220.png
END:VEVENT
BEGIN:VEVENT
DTSTART;TZID=America/Chicago:20251003T160000
DTEND;TZID=America/Chicago:20251003T230000
DTSTAMP:20260421T162804
CREATED:20250823T012039Z
LAST-MODIFIED:20250830T011632Z
UID:10269-1759507200-1759532400@discoverwylie.com
SUMMARY:Oktoberfest
DESCRIPTION:Oktoberfest @ Glen Echo Brewing\nOctober 3\, 4\, & 5
URL:https://discoverwylie.com/events/oktoberfest-glen-echo-brewing/
LOCATION:Glen Echo Brewing\, 106 N Birmingham\, Wylie\, TX\, 75098\, United States
CATEGORIES:Beer,Food,Music,Vendors
ATTACH;FMTTYPE=image/png:https://discoverwylie.com/wp-content/uploads/2025/08/IMG_8219.png
END:VEVENT
BEGIN:VEVENT
DTSTART;TZID=America/Chicago:20250927T200000
DTEND;TZID=America/Chicago:20250927T211500
DTSTAMP:20260421T162804
CREATED:20250907T035156Z
LAST-MODIFIED:20250907T035156Z
UID:10400-1759003200-1759007700@discoverwylie.com
SUMMARY:Laughter on Tap Comedy Night
DESCRIPTION:Laughter on Tap\, comedy night @ Glen Echo Brewing \nSaturday\, September 27 from 8:00 to 9:15 pm \nTickets $7 in advance or $10 the day of event
URL:https://discoverwylie.com/events/laughter-on-tap-comedy-night/
LOCATION:Glen Echo Brewing\, 106 N Birmingham\, Wylie\, TX\, 75098\, United States
CATEGORIES:Beer,Comedy
ATTACH;FMTTYPE=image/png:https://discoverwylie.com/wp-content/uploads/2025/09/EVENT-Comedy-taps-1920-x-1080-px-1.png
END:VEVENT
BEGIN:VEVENT
DTSTART;TZID=America/Chicago:20250926T160000
DTEND;TZID=America/Chicago:20250926T180000
DTSTAMP:20260421T162805
CREATED:20250920T163919Z
LAST-MODIFIED:20250920T163919Z
UID:10543-1758902400-1758909600@discoverwylie.com
SUMMARY:Tandoor Food Truck
DESCRIPTION:4pm-Sold Out
URL:https://discoverwylie.com/events/tandoor-food-truck/
LOCATION:Glen Echo Brewing\, 106 N Birmingham\, Wylie\, TX\, 75098\, United States
CATEGORIES:Beer,Food,Food Truck
ATTACH;FMTTYPE=image/png:https://discoverwylie.com/wp-content/uploads/2025/09/FB-event-Tandoor-Truck-calendar-8.5-x-11-in-1920-x-1080-px-1-1.png
END:VEVENT
BEGIN:VEVENT
DTSTART;TZID=America/Chicago:20250920T153000
DTEND;TZID=America/Chicago:20250920T190000
DTSTAMP:20260421T162805
CREATED:20250904T140155Z
LAST-MODIFIED:20250905T211846Z
UID:10370-1758382200-1758394800@discoverwylie.com
SUMMARY:On the Hook Food Truck
DESCRIPTION:SATURDAY Food Truck @ Glen Echo Brewing\, On the Hook \nSeptember 20 from 3:30-7
URL:https://discoverwylie.com/events/on-the-hook-food-truck/
LOCATION:Glen Echo Brewing\, 106 N Birmingham\, Wylie\, TX\, 75098\, United States
CATEGORIES:Beer,Food Truck
ATTACH;FMTTYPE=image/png:https://discoverwylie.com/wp-content/uploads/2025/09/Sat-event-reel-on-the-hook-1920-x-1080-px.png
END:VEVENT
BEGIN:VEVENT
DTSTART;TZID=America/Chicago:20250919T160000
DTEND;TZID=America/Chicago:20250919T200000
DTSTAMP:20260421T162805
CREATED:20250904T140050Z
LAST-MODIFIED:20250905T211919Z
UID:10368-1758297600-1758312000@discoverwylie.com
SUMMARY:Fish & Fizz Food Truck
DESCRIPTION:Friday Food Truck @ Glen Echo Brewing\, Fish & Fizz \nSeptember 19 from 4-8
URL:https://discoverwylie.com/events/fish-fizz-food-truck/
LOCATION:Glen Echo Brewing\, 106 N Birmingham\, Wylie\, TX\, 75098\, United States
CATEGORIES:Beer,Food Truck
ATTACH;FMTTYPE=image/png:https://discoverwylie.com/wp-content/uploads/2025/09/event-Fish-Fizz-1920-x-1080-px.png
END:VEVENT
BEGIN:VEVENT
DTSTART;TZID=America/Chicago:20250912T170000
DTEND;TZID=America/Chicago:20250912T210000
DTSTAMP:20260421T162805
CREATED:20250904T135936Z
LAST-MODIFIED:20250905T211943Z
UID:10366-1757696400-1757710800@discoverwylie.com
SUMMARY:La TacoTrona Food Truck
DESCRIPTION:Friday Food Truck @ Glen Echo Brewing\, La TacoTrona \nSeptember 12 from 5-9
URL:https://discoverwylie.com/events/la-tacotrona-food-truck/
LOCATION:Glen Echo Brewing\, 106 N Birmingham\, Wylie\, TX\, 75098\, United States
CATEGORIES:Beer,Food Truck
ATTACH;FMTTYPE=image/png:https://discoverwylie.com/wp-content/uploads/2025/09/event-La-TacoTrona-1920-x-1080-px-2.png
END:VEVENT
BEGIN:VEVENT
DTSTART;TZID=America/Chicago:20250910T183000
DTEND;TZID=America/Chicago:20250910T203000
DTSTAMP:20260421T162805
CREATED:20250904T135813Z
LAST-MODIFIED:20250905T212053Z
UID:10364-1757529000-1757536200@discoverwylie.com
SUMMARY:Wednesday Trivia Night
DESCRIPTION:Wednesday Trivia Night @ Glen Echo Brewing \n(Each Wednesday from September 10 to December 17.) \nFree to play\, PRIZES 6:30 to 8:30
URL:https://discoverwylie.com/events/wednesday-trivia-night/
LOCATION:Glen Echo Brewing\, 106 N Birmingham\, Wylie\, TX\, 75098\, United States
CATEGORIES:Beer,Trivia
ATTACH;FMTTYPE=image/png:https://discoverwylie.com/wp-content/uploads/2025/09/FB-trivia-8.5-x-11-in-1920-x-1080-px.png
END:VEVENT
BEGIN:VEVENT
DTSTART;TZID=America/Chicago:20250905T170000
DTEND;TZID=America/Chicago:20250905T210000
DTSTAMP:20260421T162805
CREATED:20250904T135610Z
LAST-MODIFIED:20250905T212010Z
UID:10362-1757091600-1757106000@discoverwylie.com
SUMMARY:Pizza Di Vaio Food Truck
DESCRIPTION:Friday Food Truck @ Glen Echo Brewing\, Pizza Di Vaio \nSeptember 5 from 5-9
URL:https://discoverwylie.com/events/pizza-di-vaio-food-truck/
LOCATION:Glen Echo Brewing\, 106 N Birmingham\, Wylie\, TX\, 75098\, United States
CATEGORIES:Beer
ATTACH;FMTTYPE=image/png:https://discoverwylie.com/wp-content/uploads/2025/09/event-Pizza-di-vaio-1920-x-1080-px.png
END:VEVENT
BEGIN:VEVENT
DTSTART;TZID=America/Chicago:20250829T160000
DTEND;TZID=America/Chicago:20250829T200000
DTSTAMP:20260421T162805
CREATED:20250823T014229Z
LAST-MODIFIED:20250823T014229Z
UID:10283-1756483200-1756497600@discoverwylie.com
SUMMARY:Food Truck Friday @ Glen Echo Brewing
DESCRIPTION:Food Truck Friday @ Glen Echo Brewing\nAugust 29\, 4-8pm
URL:https://discoverwylie.com/events/food-truck-friday-glen-echo-brewing/
LOCATION:Glen Echo Brewing\, 106 N Birmingham\, Wylie\, TX\, 75098\, United States
CATEGORIES:Beer,Food,Food Truck
ATTACH;FMTTYPE=image/png:https://discoverwylie.com/wp-content/uploads/2025/08/IMG_8223.png
END:VEVENT
END:VCALENDAR