BEGIN:VCALENDAR
VERSION:2.0
PRODID:-//Discover Downtown Wylie - ECPv6.15.18//NONSGML v1.0//EN
CALSCALE:GREGORIAN
METHOD:PUBLISH
X-ORIGINAL-URL:https://discoverwylie.com
X-WR-CALDESC:Events for Discover Downtown Wylie
REFRESH-INTERVAL;VALUE=DURATION:PT1H
X-Robots-Tag:noindex
X-PUBLISHED-TTL:PT1H
BEGIN:VTIMEZONE
TZID:America/Chicago
BEGIN:DAYLIGHT
TZOFFSETFROM:-0600
TZOFFSETTO:-0500
TZNAME:CDT
DTSTART:20230312T080000
END:DAYLIGHT
BEGIN:STANDARD
TZOFFSETFROM:-0500
TZOFFSETTO:-0600
TZNAME:CST
DTSTART:20231105T070000
END:STANDARD
BEGIN:DAYLIGHT
TZOFFSETFROM:-0600
TZOFFSETTO:-0500
TZNAME:CDT
DTSTART:20240310T080000
END:DAYLIGHT
BEGIN:STANDARD
TZOFFSETFROM:-0500
TZOFFSETTO:-0600
TZNAME:CST
DTSTART:20241103T070000
END:STANDARD
BEGIN:DAYLIGHT
TZOFFSETFROM:-0600
TZOFFSETTO:-0500
TZNAME:CDT
DTSTART:20250309T080000
END:DAYLIGHT
BEGIN:STANDARD
TZOFFSETFROM:-0500
TZOFFSETTO:-0600
TZNAME:CST
DTSTART:20251102T070000
END:STANDARD
BEGIN:DAYLIGHT
TZOFFSETFROM:-0600
TZOFFSETTO:-0500
TZNAME:CDT
DTSTART:20260308T080000
END:DAYLIGHT
BEGIN:STANDARD
TZOFFSETFROM:-0500
TZOFFSETTO:-0600
TZNAME:CST
DTSTART:20261101T070000
END:STANDARD
END:VTIMEZONE
BEGIN:VEVENT
DTSTART;TZID=America/Chicago:20251220T130000
DTEND;TZID=America/Chicago:20251220T160000
DTSTAMP:20260420T142236
CREATED:20251211T234515Z
LAST-MODIFIED:20251215T211313Z
UID:11008-1766235600-1766246400@discoverwylie.com
SUMMARY:Merry Grinchmas!
DESCRIPTION:The Grinch is coming to Juzt JAZ Boutique. Come see what shenanigans he’s up to on Saturday\, December 20th\, 1pm-4pm. Enjoy a Grinchy drink\, treats\, pics with the mean one and jingle deals. Don’t miss out on all of the holiday fun at JAZ!
URL:https://discoverwylie.com/events/merry-grinchmas/
LOCATION:Juzt JAZ Boutique\, 131 N Ballard Ave\, Wylie\, TX\, 75098\, United States
CATEGORIES:Christmas,Holiday
ATTACH;FMTTYPE=image/jpeg:https://discoverwylie.com/wp-content/uploads/2025/12/IMG_2100-scaled.jpg
END:VEVENT
BEGIN:VEVENT
DTSTART;TZID=America/Chicago:20251220T120000
DTEND;TZID=America/Chicago:20251220T170000
DTSTAMP:20260420T142236
CREATED:20251203T220458Z
LAST-MODIFIED:20251203T220458Z
UID:10971-1766232000-1766250000@discoverwylie.com
SUMMARY:Dashing through Downtown
DESCRIPTION:Join us on December 20th from 12–5 PM for a festive Holiday Boutique Stroll! Enjoy an afternoon of shopping\, drinks\, exclusive deals\, and holiday cheer as you explore your favorite local boutiques and makers downtown. Grab your girls\, sip\, shop\, and soak in the Christmas magic!\n\n**Stop by Ballard Boutique & Bakery to pickup up your passport**
URL:https://discoverwylie.com/events/dashing-through-downtown/
LOCATION:Historic Downtown Wylie
CATEGORIES:Christmas,Holiday,Shop
ATTACH;FMTTYPE=image/jpeg:https://discoverwylie.com/wp-content/uploads/2025/12/591913640_828918569904435_1019253209236790032_n.jpg
END:VEVENT
BEGIN:VEVENT
DTSTART;TZID=America/Chicago:20251219T183000
DTEND;TZID=America/Chicago:20251219T200000
DTSTAMP:20260420T142236
CREATED:20251207T184418Z
LAST-MODIFIED:20251207T184418Z
UID:10994-1766169000-1766174400@discoverwylie.com
SUMMARY:Cooking Painting Workshop with Queenie
DESCRIPTION:Happy Holidays\, Merrymakers! You’re in for a real sweet treat featuring cookie art by Queenie paired with your favorite Landon wines. Paint\, snack\, sip… and sleigh the season!
URL:https://discoverwylie.com/events/cooking-painting-workshop-with-queenie/
LOCATION:Landon Winery\, 103 N. Ballard Ave\, Wylie\, TX\, 75098\, United States
CATEGORIES:Christmas,Holiday,Paint,Wine
ATTACH;FMTTYPE=image/jpeg:https://discoverwylie.com/wp-content/uploads/2025/12/Queenie.jpg
END:VEVENT
BEGIN:VEVENT
DTSTART;TZID=America/Chicago:20251213T120000
DTEND;TZID=America/Chicago:20251213T150000
DTSTAMP:20260420T142236
CREATED:20251118T234433Z
LAST-MODIFIED:20251118T234433Z
UID:10917-1765627200-1765638000@discoverwylie.com
SUMMARY:Wylie Flower Shop Open House
DESCRIPTION:It’s the most wonderful time of the year! Saturday\, December 13\, 2025\, from 12:00 PM to 3:00 PM\, join us at Wylie Flower Shop for our Christmas Open House!\nGet into the holiday spirit with festive refreshments\, a kid’s craft\, beautiful holiday arrangements\, seasonal gift offerings\, and even snap a photo with Santa Claus himself. \nDon’t miss this day of holiday cheer and community celebration at the Wylie Flower Shop. This event is free to participate.
URL:https://discoverwylie.com/events/wylie-flower-shop-open-house/
LOCATION:Wylie Flower Shop\, 129 N Ballard Ave\, Wylie\, TX\, 75098\, United States
CATEGORIES:Christmas,Holiday,Santa
ATTACH;FMTTYPE=image/jpeg:https://discoverwylie.com/wp-content/uploads/2025/11/Icon-for-WFS-OPEN-HOUSE-2025-scaled.jpg
END:VEVENT
BEGIN:VEVENT
DTSTART;TZID=America/Chicago:20251213T100000
DTEND;TZID=America/Chicago:20251213T140000
DTSTAMP:20260420T142236
CREATED:20251111T222640Z
LAST-MODIFIED:20251111T222640Z
UID:10891-1765620000-1765634400@discoverwylie.com
SUMMARY:Little Elves Workshop Walk
DESCRIPTION:Bring the kids and the holiday cheer! Join us for the Little Elves Workshop Walk on Saturday\, Dec 13\, 10AM–2PM. Stroll down Ballard Street and let the little ones create free hands-on crafts at every stop! \nParticipating Shops: Ballard Boutique & Bakery\, Fancy Plants\, Hope’s Gate\, Juzt Jaz\, Say it with Sugar\, Shoemaker & Hardt\, TF Hat Co\, Witty Wick\, Wylie Flower & Gift \nFun\, crafts\, and holiday magic await—don’t miss it!
URL:https://discoverwylie.com/events/little-elves-workshop-walk/
LOCATION:Historic Downtown Wylie
CATEGORIES:Arts and Crafts,Christmas,Holiday
ATTACH;FMTTYPE=image/jpeg:https://discoverwylie.com/wp-content/uploads/2025/11/December-13-2025-Ballard-Ave-4.jpg
END:VEVENT
BEGIN:VEVENT
DTSTART;TZID=America/Chicago:20251211T173000
DTEND;TZID=America/Chicago:20251211T193000
DTSTAMP:20260420T142236
CREATED:20251031T143951Z
LAST-MODIFIED:20251031T143951Z
UID:10809-1765474200-1765481400@discoverwylie.com
SUMMARY:Santa comes to the Brewery
DESCRIPTION:The real-deal Santa is stopping his sleigh at the brewery for a cold one and pictures with you\, your family\, your friends\, and even your fur babies. FREE. No sign-up required\, but get here early! FOOD TRUCK: Dragon Burger House serving dinner.
URL:https://discoverwylie.com/events/santa-comes-to-the-brewery/
LOCATION:Glen Echo Brewing\, 106 N Birmingham\, Wylie\, TX\, 75098\, United States
CATEGORIES:Beer,Christmas,Food Truck,Holiday,Santa
ATTACH;FMTTYPE=image/png:https://discoverwylie.com/wp-content/uploads/2025/10/Santa-comes-to-your-brewery-1.png
END:VEVENT
BEGIN:VEVENT
DTSTART;TZID=America/Chicago:20251207T180000
DTEND;TZID=America/Chicago:20251207T200000
DTSTAMP:20260420T142236
CREATED:20191025T164000Z
LAST-MODIFIED:20250108T022919Z
UID:1618-1765130400-1765137600@discoverwylie.com
SUMMARY:Christmas Parade and Tree Lighting
DESCRIPTION:Festival of Lights Christmas Parade\nThe Cross Church Wylie and City of Wylie present the annual Festival of Lights Christmas Parade down Ballard Avenue. \nTree Lighting\nJoin us after the parade for the annual Tree Lighting Ceremony in Olde City Park\, 112 S. Ballard Ave. Mayor Porter will read Night Before Christmas and Wylie High School’s Tempo choir will sing songs of the season before the big switch is thrown to light the community Christmas tree.
URL:https://discoverwylie.com/events/christmas-parade-and-tree-lighting/
LOCATION:Downtown Wylie\, 100 N Ballard Ave\, Wylie\, TX\, 75098\, United States
CATEGORIES:Christmas
ATTACH;FMTTYPE=image/jpeg:https://discoverwylie.com/wp-content/uploads/2019/10/Christmas-Parade-scaled.jpg
END:VEVENT
BEGIN:VEVENT
DTSTART;TZID=America/Chicago:20251206T090000
DTEND;TZID=America/Chicago:20251206T160000
DTSTAMP:20260420T142236
CREATED:20251120T205324Z
LAST-MODIFIED:20251120T205324Z
UID:10929-1765011600-1765036800@discoverwylie.com
SUMMARY:Victorian Christmas Market at the Brown House
DESCRIPTION:Be a part of the unique European-style Christmas Market event at the Welcome Center at Brown House on the lawn. The City of Wylie and Wylie Parks and Recreation host this event in conjunction with the Wylie Arts Festival.\nShop holiday vendors\, enjoy live music\, demonstrations\, and more!\nFree exhibits\, home tour\, complimentary hot cocoa\, and selfies with Victorian Santa.\nNo tickets required!
URL:https://discoverwylie.com/events/victorian-christmas-market-at-the-brown-house/
LOCATION:Welcome Center at Brown House\, 301 N Ballard Ave\, Wylie\, TX\, 75098\, United States
CATEGORIES:Arts and Crafts,Christmas,Holiday,Santa,Shop
ATTACH;FMTTYPE=image/png:https://discoverwylie.com/wp-content/uploads/2025/11/VCM-LOGO-FINAL@288x.png
END:VEVENT
BEGIN:VEVENT
DTSTART;TZID=America/Chicago:20251206T090000
DTEND;TZID=America/Chicago:20251206T160000
DTSTAMP:20260420T142236
CREATED:20191025T164407Z
LAST-MODIFIED:20250108T023041Z
UID:1620-1765011600-1765036800@discoverwylie.com
SUMMARY:Wylie Arts Festival
DESCRIPTION:The City of Wylie and the Public Arts Advisory Board are proud to present the Wylie Arts Festival in historic Downtown Wylie. Shop for art\, handmade crafts\, and unique gifts\, and enjoy festive fair foods. Admission and parking are free. \n200 Indoor and Outdoor Art\, Craft and Unique Vendors\nThe Wylie Arts Festival is the perfect opportunity to cross some names off your Christmas list or simply treat yourself. Stroll through the indoor and outdoor art and craft aisles. From jewelry to home décor to clothing to paintings to gift items you will not find anywhere else\, there is definitely something for everyone. Don’t forget to take a walk throughout the downtown area where you will find unique shops\, restaurants\, and treats. \nFestive Foods\nHistoric downtown will be filled with more than just the sights and sounds of the holidays; the smell of festive fair-style food will be in the air as well. Bring the family down for a lunch of corndogs\, churros\, hot chocolate\, and more!
URL:https://discoverwylie.com/events/wylie-arts-festival/
LOCATION:The Cross Church Event Center\, 200 N Ballard Ave\, Wylie\, TX\, 75098\, United States
CATEGORIES:Christmas
ATTACH;FMTTYPE=image/png:https://discoverwylie.com/wp-content/uploads/2019/10/Wylie_Arts_Festival.png
END:VEVENT
BEGIN:VEVENT
DTSTART;TZID=America/Chicago:20251205T180000
DTEND;TZID=America/Chicago:20251205T183000
DTSTAMP:20260420T142236
CREATED:20251031T144309Z
LAST-MODIFIED:20251031T144309Z
UID:10812-1764957600-1764959400@discoverwylie.com
SUMMARY:Food Truck Friday
DESCRIPTION:The CPKC Concert Train will be stopping across from Glen Echo Brewing with a 30-minute performance by Dylan Marlow and Emily Ann Roberts. Have a seat on our patio\, grab a beer\, and stay for FOOD TRUCK Friday with La TacoTrona.
URL:https://discoverwylie.com/events/food-truck-friday/
LOCATION:Glen Echo Brewing\, 106 N Birmingham\, Wylie\, TX\, 75098\, United States
CATEGORIES:Beer,Christmas,Food Truck,Music
ATTACH;FMTTYPE=image/png:https://discoverwylie.com/wp-content/uploads/2025/10/Christmas-CONCERT-Train-8-4.png
END:VEVENT
BEGIN:VEVENT
DTSTART;TZID=America/Chicago:20251205T160000
DTEND;TZID=America/Chicago:20251205T200000
DTSTAMP:20260420T142236
CREATED:20251111T223025Z
LAST-MODIFIED:20251111T223025Z
UID:10894-1764950400-1764964800@discoverwylie.com
SUMMARY:Elf Tracks on Ballard
DESCRIPTION:The elves have gone rogue! They hopped off the Holiday Train and scattered through the shops of Ballard. The hunt is on all evening – wander Ballard\, find the elves\, and win prizes along the way! \nParticipating shops include: TF Hat Co\, Hope’s Gate\, Witty Wicks\, Fancy Plants\, Shoemaker & Hardt\, Ballard Boutique & Bakery\, Juzt Jaz\, Wylie Flower & Gift\, Landon Winery\, Say It With Sugar\, and Sun Lounge Tanning Studio
URL:https://discoverwylie.com/events/elf-tracks-on-ballard/
LOCATION:Historic Downtown Wylie
CATEGORIES:Christmas,Holiday
ATTACH;FMTTYPE=image/jpeg:https://discoverwylie.com/wp-content/uploads/2025/11/The-Great-Elf-Expedition-1-scaled.jpg
END:VEVENT
BEGIN:VEVENT
DTSTART;TZID=America/Chicago:20251123T120000
DTEND;TZID=America/Chicago:20251123T143000
DTSTAMP:20260420T142236
CREATED:20251111T223311Z
LAST-MODIFIED:20251111T223311Z
UID:10897-1763899200-1763908200@discoverwylie.com
SUMMARY:Christmas Photography Pop Up
DESCRIPTION:Your Christmas card called — it wants a photo taken at Shoemaker & Hardt. Join us Nov. 23rd\, 12–2:30PM for a $10 holiday photo pop-up with @saphotography10_ . No appointment needed!\nFestive setup\, cozy vibes\, and your favorite coffee in hand.
URL:https://discoverwylie.com/events/christmas-photography-pop-up/
LOCATION:Shoemaker & Hardt\, 105 N Ballard Ave\, Wylie\, TX\, 75098\, United States
CATEGORIES:Christmas,Coffee,Holiday,Portraits
ATTACH;FMTTYPE=image/jpeg:https://discoverwylie.com/wp-content/uploads/2025/11/IMG_4361.jpeg
END:VEVENT
BEGIN:VEVENT
DTSTART;TZID=America/Chicago:20251115T110000
DTEND;TZID=America/Chicago:20251115T140000
DTSTAMP:20260420T142236
CREATED:20251103T153555Z
LAST-MODIFIED:20251103T153555Z
UID:10822-1763204400-1763215200@discoverwylie.com
SUMMARY:Santa is Coming to Juzt JAZ Boutique
DESCRIPTION:Bring the kiddos to meet Santa Claus\, give him your Christmas wish list and take free photos. JAZ will have wish lists for the kiddos to fill out and hand to Santa and sweet treats. Families and pets are welcome to be in the photos too.      \nSaturday\, November 15th\, 11am-2pm \n 
URL:https://discoverwylie.com/events/santa-is-coming-to-juzt-jaz-boutique/
LOCATION:Juzt JAZ Boutique\, 131 N Ballard Ave\, Wylie\, TX\, 75098\, United States
CATEGORIES:Christmas,Holiday,Shop
ATTACH;FMTTYPE=image/png:https://discoverwylie.com/wp-content/uploads/2025/11/JAZ-Santa-2025.png
END:VEVENT
BEGIN:VEVENT
DTSTART;TZID=America/Chicago:20241209T160000
DTEND;TZID=America/Chicago:20241209T200000
DTSTAMP:20260420T142236
CREATED:20241206T210744Z
LAST-MODIFIED:20241206T211250Z
UID:9040-1733760000-1733774400@discoverwylie.com
SUMMARY:CPKC Holiday Express Train
DESCRIPTION:Bring the whole family to tour the CPKC Holiday Express Christmas train when it stops in Historic Downtown Wylie. Board the train\, visit with Santa and his elves\, and tour the inside of the festive cars\, including a smiling tank car named Rudy; a flatcar carrying Santa’s sleigh\, reindeer\, and a miniature village; a gingerbread boxcar; elves’ workshop; the reindeer stable; and a little red caboose. Each car dazzles with sparkling lights and holiday decorations. \nThe event is free and open to the public; no tickets are required. \nThe CPKC Holiday Express\, Kansas City Southern’s six-car Christmas train\, is pulled by the beautifully restored Southern Belle passenger train. The Southern Belle passenger train provided luxury service between Kansas City and the Gulf Coast region from 1940 to 1969. It was restored in 1995 and provides a peek into the past as well as powering the KCS Holiday Express into town. \nIn addition to bringing smiles to kids’ faces\, the KCS Holiday Express has a charitable component. For the 15 years it’s been part of the season\, the train has raised over $1 million for the Salvation Army\, funds are used to purchase warm clothing and other necessities for children in the community. This year’s Wylie donation will go to the Wylie Christian Care Center. \nThe CPKC Holiday Express began as the “Santa Train” in 2001 after volunteers dedicated over 8\,000 hours to the transformation of retired rail cars. The Santa Train ran on a segment of the network bought by KCS in 1997. In 2000\, some warm-hearted CPKC employees noticed that the Santa Train was the only Christmas some kids had and that they lacked essential items like coats\, hats\, and gloves. They decided to elevate the project\, and in 2001\, volunteers transformed a retired freight train into the festive holiday train communities know today.
URL:https://discoverwylie.com/events/cpkc-holiday-express-train/
LOCATION:Downtown Wylie\, 100 N Ballard Ave\, Wylie\, TX\, 75098\, United States
CATEGORIES:Christmas
ATTACH;FMTTYPE=image/jpeg:https://discoverwylie.com/wp-content/uploads/2024/12/Holiday_Express_2.jpg
END:VEVENT
BEGIN:VEVENT
DTSTART;TZID=America/Chicago:20241206T080000
DTEND;TZID=America/Chicago:20241206T170000
DTSTAMP:20260420T142236
CREATED:20241206T205142Z
LAST-MODIFIED:20241206T211337Z
UID:9034-1733472000-1733504400@discoverwylie.com
SUMMARY:Victorian Christmas Market
DESCRIPTION:Stroll the Victorian Christmas Market\, shop holiday vendors\, and enjoy Victorian carolers\, crafts\, and more. Remember to visit the Welcome Center for photo opportunities. Free craft stations and lawn games are available in the children’s area. No tickets are required!
URL:https://discoverwylie.com/events/victorian-christmas-market/
LOCATION:Wylie Visitor Center\, 301 N Ballard Ave\, Wylie\, TX\, 75098\, United States
CATEGORIES:Christmas
ATTACH;FMTTYPE=image/png:https://discoverwylie.com/wp-content/uploads/2024/12/VCM-Logo.png
END:VEVENT
END:VCALENDAR