BEGIN:VCALENDAR
VERSION:2.0
PRODID:-//Discover Downtown Wylie - ECPv6.15.18//NONSGML v1.0//EN
CALSCALE:GREGORIAN
METHOD:PUBLISH
X-ORIGINAL-URL:https://discoverwylie.com
X-WR-CALDESC:Events for Discover Downtown Wylie
REFRESH-INTERVAL;VALUE=DURATION:PT1H
X-Robots-Tag:noindex
X-PUBLISHED-TTL:PT1H
BEGIN:VTIMEZONE
TZID:America/Chicago
BEGIN:DAYLIGHT
TZOFFSETFROM:-0600
TZOFFSETTO:-0500
TZNAME:CDT
DTSTART:20240310T080000
END:DAYLIGHT
BEGIN:STANDARD
TZOFFSETFROM:-0500
TZOFFSETTO:-0600
TZNAME:CST
DTSTART:20241103T070000
END:STANDARD
BEGIN:DAYLIGHT
TZOFFSETFROM:-0600
TZOFFSETTO:-0500
TZNAME:CDT
DTSTART:20250309T080000
END:DAYLIGHT
BEGIN:STANDARD
TZOFFSETFROM:-0500
TZOFFSETTO:-0600
TZNAME:CST
DTSTART:20251102T070000
END:STANDARD
BEGIN:DAYLIGHT
TZOFFSETFROM:-0600
TZOFFSETTO:-0500
TZNAME:CDT
DTSTART:20260308T080000
END:DAYLIGHT
BEGIN:STANDARD
TZOFFSETFROM:-0500
TZOFFSETTO:-0600
TZNAME:CST
DTSTART:20261101T070000
END:STANDARD
END:VTIMEZONE
BEGIN:VEVENT
DTSTART;TZID=America/Chicago:20250607T080000
DTEND;TZID=America/Chicago:20250607T140000
DTSTAMP:20260422T111134
CREATED:20250606T234255Z
LAST-MODIFIED:20250608T012432Z
UID:10008-1749283200-1749304800@discoverwylie.com
SUMMARY:Shoemaker & Hardt Pop Up at Wylie Urban Farm & Market
DESCRIPTION:Shoemaker & Hardt is popping up at Wylie Urban Farm & Market every weekend in June! Visit us at 2315 E Stone Rd\, Wylie\, TX 75098\, on Saturdays from 8 a.m. to 2 p.m. and Sundays from 10 a.m. to 2 p.m. Come sip on your favorite brew\, shop\, and support local!
URL:https://discoverwylie.com/events/shoemaker-hardt-pop-up-at-wylie-urban-farm-market/
LOCATION:Wylie Urban Farm & Market\, 2315 E Stone Road\, Wylie\, TX\, 75098
CATEGORIES:Coffee
ATTACH;FMTTYPE=image/jpeg:https://discoverwylie.com/wp-content/uploads/2025/06/IMG_1513-scaled.jpg
END:VEVENT
BEGIN:VEVENT
DTSTART;TZID=America/Chicago:20250608T080000
DTEND;TZID=America/Chicago:20250608T140000
DTSTAMP:20260422T111134
CREATED:20250608T012609Z
LAST-MODIFIED:20250608T012625Z
UID:10013-1749369600-1749391200@discoverwylie.com
SUMMARY:Shoemaker & Hardt Pop Up at Wylie Urban Farm & Market
DESCRIPTION:Shoemaker & Hardt is popping up at Wylie Urban Farm & Market every weekend in June! Visit us at 2315 E Stone Rd\, Wylie\, TX 75098\, on Saturdays from 8 a.m. to 2 p.m. and Sundays from 10 a.m. to 2 p.m. Come sip on your favorite brew\, shop\, and support local!
URL:https://discoverwylie.com/events/shoemaker-hardt-pop-up-at-wylie-urban-farm-market-2/
LOCATION:Wylie Urban Farm & Market\, 2315 E Stone Road\, Wylie\, TX\, 75098
CATEGORIES:Coffee
ATTACH;FMTTYPE=image/jpeg:https://discoverwylie.com/wp-content/uploads/2025/06/IMG_1513-scaled.jpg
END:VEVENT
BEGIN:VEVENT
DTSTART;TZID=America/Chicago:20250614T080000
DTEND;TZID=America/Chicago:20250614T140000
DTSTAMP:20260422T111134
CREATED:20250608T012737Z
LAST-MODIFIED:20250608T013054Z
UID:10015-1749888000-1749909600@discoverwylie.com
SUMMARY:Shoemaker & Hardt Pop Up at Wylie Urban Farm & Market
DESCRIPTION:Shoemaker & Hardt is popping up at Wylie Urban Farm & Market every weekend in June! Visit us at 2315 E Stone Rd\, Wylie\, TX 75098\, on Saturdays from 8 a.m. to 2 p.m. and Sundays from 10 a.m. to 2 p.m. Come sip on your favorite brew\, shop\, and support local!
URL:https://discoverwylie.com/events/shoemaker-hardt-pop-up-at-wylie-urban-farm-market-3/
LOCATION:Wylie Urban Farm & Market\, 2315 E Stone Road\, Wylie\, TX\, 75098
CATEGORIES:Coffee
ATTACH;FMTTYPE=image/jpeg:https://discoverwylie.com/wp-content/uploads/2025/06/IMG_1513-scaled.jpg
END:VEVENT
BEGIN:VEVENT
DTSTART;TZID=America/Chicago:20250614T090000
DTEND;TZID=America/Chicago:20250614T120000
DTSTAMP:20260422T111134
CREATED:20250606T233151Z
LAST-MODIFIED:20250606T233151Z
UID:9996-1749891600-1749902400@discoverwylie.com
SUMMARY:Nellie's Natural Kneads Pop Up
DESCRIPTION:Nellie’s Natural Kneads is popping up at Shoemaker & Hardt on Saturday\, June 14\, from 9am to noon—swing by for a fresh sourdough loaf and your favorite brew. It’s the perfect start to your weekend!
URL:https://discoverwylie.com/events/nellies-natural-kneads-pop-up-2/
LOCATION:Shoemaker & Hardt\, 105 N Ballard Ave\, Wylie\, TX\, 75098\, United States
CATEGORIES:Bread,Coffee
ATTACH;FMTTYPE=image/jpeg:https://discoverwylie.com/wp-content/uploads/2025/06/Nellies-Natrual-Kneads.jpg
END:VEVENT
BEGIN:VEVENT
DTSTART;TZID=America/Chicago:20250615T080000
DTEND;TZID=America/Chicago:20250615T140000
DTSTAMP:20260422T111134
CREATED:20250608T012839Z
LAST-MODIFIED:20250608T013017Z
UID:10017-1749974400-1749996000@discoverwylie.com
SUMMARY:Shoemaker & Hardt Pop Up at Wylie Urban Farm & Market
DESCRIPTION:Shoemaker & Hardt is popping up at Wylie Urban Farm & Market every weekend in June! Visit us at 2315 E Stone Rd\, Wylie\, TX 75098\, on Saturdays from 8 a.m. to 2 p.m. and Sundays from 10 a.m. to 2 p.m. Come sip on your favorite brew\, shop\, and support local!
URL:https://discoverwylie.com/events/shoemaker-hardt-pop-up-at-wylie-urban-farm-market-4/
LOCATION:Wylie Urban Farm & Market\, 2315 E Stone Road\, Wylie\, TX\, 75098
CATEGORIES:Coffee
ATTACH;FMTTYPE=image/jpeg:https://discoverwylie.com/wp-content/uploads/2025/06/IMG_1513-scaled.jpg
END:VEVENT
BEGIN:VEVENT
DTSTART;TZID=America/Chicago:20250621T080000
DTEND;TZID=America/Chicago:20250621T140000
DTSTAMP:20260422T111134
CREATED:20250608T012940Z
LAST-MODIFIED:20250608T012940Z
UID:10019-1750492800-1750514400@discoverwylie.com
SUMMARY:Shoemaker & Hardt Pop Up at Wylie Urban Farm & Market
DESCRIPTION:Shoemaker & Hardt is popping up at Wylie Urban Farm & Market every weekend in June! Visit us at 2315 E Stone Rd\, Wylie\, TX 75098\, on Saturdays from 8 a.m. to 2 p.m. and Sundays from 10 a.m. to 2 p.m. Come sip on your favorite brew\, shop\, and support local!
URL:https://discoverwylie.com/events/shoemaker-hardt-pop-up-at-wylie-urban-farm-market-5/
LOCATION:Wylie Urban Farm & Market\, 2315 E Stone Road\, Wylie\, TX\, 75098
CATEGORIES:Coffee
ATTACH;FMTTYPE=image/jpeg:https://discoverwylie.com/wp-content/uploads/2025/06/IMG_1513-scaled.jpg
END:VEVENT
BEGIN:VEVENT
DTSTART;TZID=America/Chicago:20250621T090000
DTEND;TZID=America/Chicago:20250621T130000
DTSTAMP:20260422T111134
CREATED:20250606T233447Z
LAST-MODIFIED:20250606T233447Z
UID:9999-1750496400-1750510800@discoverwylie.com
SUMMARY:Meet Local Wylie Author Deonna Kay
DESCRIPTION:Meet local Wylie author Deonna Kay at Shoemaker & Hardt for a book signing of The Measure of Enough on Saturday\, June 21\, from 9am to 1pm—grab a coffee and say hello!
URL:https://discoverwylie.com/events/meet-local-wylie-author-deonna-kay/
LOCATION:Shoemaker & Hardt\, 105 N Ballard Ave\, Wylie\, TX\, 75098\, United States
CATEGORIES:Coffee
ATTACH;FMTTYPE=application/pdf:https://discoverwylie.com/wp-content/uploads/2025/06/THE-MEASURE-OF-ENOUGH-Generic-1.pdf
END:VEVENT
BEGIN:VEVENT
DTSTART;TZID=America/Chicago:20250621T150000
DTEND;TZID=America/Chicago:20250621T170000
DTSTAMP:20260422T111134
CREATED:20250611T210012Z
LAST-MODIFIED:20250611T210012Z
UID:10038-1750518000-1750525200@discoverwylie.com
SUMMARY:Avery Flores Live at Shoemaker!
DESCRIPTION:Join us Saturday\, June 21st from 3–5 PM for an afternoon of soulful sounds with the talented Avery Flores. Grab a latte\, find your seat\, and enjoy!
URL:https://discoverwylie.com/events/avery-flores-live-at-shoemaker/
LOCATION:Shoemaker & Hardt\, 105 N Ballard Ave\, Wylie\, TX\, 75098\, United States
CATEGORIES:Coffee,Music
ATTACH;FMTTYPE=image/jpeg:https://discoverwylie.com/wp-content/uploads/2025/06/Orange-Live-Music-Notification-Instagram-Post.jpeg
END:VEVENT
BEGIN:VEVENT
DTSTART;TZID=America/Chicago:20250622T080000
DTEND;TZID=America/Chicago:20250622T140000
DTSTAMP:20260422T111134
CREATED:20250608T013229Z
LAST-MODIFIED:20250608T013229Z
UID:10021-1750579200-1750600800@discoverwylie.com
SUMMARY:Shoemaker & Hardt Pop Up at Wylie Urban Farm & Market
DESCRIPTION:Shoemaker & Hardt is popping up at Wylie Urban Farm & Market every weekend in June! Visit us at 2315 E Stone Rd\, Wylie\, TX 75098\, on Saturdays from 8 a.m. to 2 p.m. and Sundays from 10 a.m. to 2 p.m. Come sip on your favorite brew\, shop\, and support local!
URL:https://discoverwylie.com/events/shoemaker-hardt-pop-up-at-wylie-urban-farm-market-6/
LOCATION:Wylie Urban Farm & Market\, 2315 E Stone Road\, Wylie\, TX\, 75098
CATEGORIES:Coffee
ATTACH;FMTTYPE=image/jpeg:https://discoverwylie.com/wp-content/uploads/2025/06/IMG_1513-scaled.jpg
END:VEVENT
BEGIN:VEVENT
DTSTART;TZID=America/Chicago:20250622T130000
DTEND;TZID=America/Chicago:20250622T150000
DTSTAMP:20260422T111134
CREATED:20250606T232923Z
LAST-MODIFIED:20250606T232923Z
UID:9993-1750597200-1750604400@discoverwylie.com
SUMMARY:Book Exchange
DESCRIPTION:Back by popular demand – Shoemaker & Hardt’s Book Swap is happening again! Bring a book (any genre)\, take a book\, connect with fellow readers\, and stay for the raffle on Sunday\, June 22!
URL:https://discoverwylie.com/events/book-exchange/
LOCATION:Shoemaker & Hardt\, 105 N Ballard Ave\, Wylie\, TX\, 75098\, United States
CATEGORIES:Book Exchange,Coffee
ATTACH;FMTTYPE=image/jpeg:https://discoverwylie.com/wp-content/uploads/2025/06/Yellow-and-Green-Illustrative-Book-Fair-Event-Instagram-Post-5.jpeg
END:VEVENT
BEGIN:VEVENT
DTSTART;TZID=America/Chicago:20250628T080000
DTEND;TZID=America/Chicago:20250628T140000
DTSTAMP:20260422T111134
CREATED:20250608T013337Z
LAST-MODIFIED:20250608T013337Z
UID:10023-1751097600-1751119200@discoverwylie.com
SUMMARY:Shoemaker & Hardt Pop Up at Wylie Urban Farm & Market
DESCRIPTION:Shoemaker & Hardt is popping up at Wylie Urban Farm & Market every weekend in June! Visit us at 2315 E Stone Rd\, Wylie\, TX 75098\, on Saturdays from 8 a.m. to 2 p.m. and Sundays from 10 a.m. to 2 p.m. Come sip on your favorite brew\, shop\, and support local!
URL:https://discoverwylie.com/events/shoemaker-hardt-pop-up-at-wylie-urban-farm-market-7/
LOCATION:Wylie Urban Farm & Market\, 2315 E Stone Road\, Wylie\, TX\, 75098
CATEGORIES:Coffee
ATTACH;FMTTYPE=image/jpeg:https://discoverwylie.com/wp-content/uploads/2025/06/IMG_1513-scaled.jpg
END:VEVENT
BEGIN:VEVENT
DTSTART;TZID=America/Chicago:20250628T100000
DTEND;TZID=America/Chicago:20250628T120000
DTSTAMP:20260422T111134
CREATED:20250606T233824Z
LAST-MODIFIED:20250606T233824Z
UID:10005-1751104800-1751112000@discoverwylie.com
SUMMARY:Meet Local Author Jim Howell
DESCRIPTION:Meet local author and retired sheriff’s deputy Jim Howell at Shoemaker & Hardt on Saturday\, June 28\, from 10 a.m. to noon for a book signing event. Drawing from his extensive law enforcement experience\, Howell crafts dramatic crime novels that offer an authentic glimpse into the complexities of criminal investigations. Enjoy a cup of coffee while engaging with Howell about his gripping narratives and the real-life inspirations behind them.
URL:https://discoverwylie.com/events/meet-local-author-jim-howell/
LOCATION:Shoemaker & Hardt\, 105 N Ballard Ave\, Wylie\, TX\, 75098\, United States
CATEGORIES:Coffee
END:VEVENT
BEGIN:VEVENT
DTSTART;TZID=America/Chicago:20250628T100000
DTEND;TZID=America/Chicago:20250628T170000
DTSTAMP:20260422T111134
CREATED:20250606T233639Z
LAST-MODIFIED:20250606T233639Z
UID:10003-1751104800-1751130000@discoverwylie.com
SUMMARY:Marcus Bellah Paints Live
DESCRIPTION:Join us at Shoemaker & Hardt on Saturday\, June 28\, starting at 10 a.m.\, as one of our favorite artists\, Marcus Bellah\, paints live. Come enjoy the creative process with a cup of coffee in hand!
URL:https://discoverwylie.com/events/marcus-bellah-paints-live/
LOCATION:Shoemaker & Hardt\, 105 N Ballard Ave\, Wylie\, TX\, 75098\, United States
CATEGORIES:Coffee,Paint
ATTACH;FMTTYPE=image/jpeg:https://discoverwylie.com/wp-content/uploads/2025/06/Marcus-Bellah.jpg
END:VEVENT
BEGIN:VEVENT
DTSTART;TZID=America/Chicago:20250629T080000
DTEND;TZID=America/Chicago:20250629T140000
DTSTAMP:20260422T111134
CREATED:20250608T013437Z
LAST-MODIFIED:20250608T013437Z
UID:10025-1751184000-1751205600@discoverwylie.com
SUMMARY:Shoemaker & Hardt Pop Up at Wylie Urban Farm & Market
DESCRIPTION:Shoemaker & Hardt is popping up at Wylie Urban Farm & Market every weekend in June! Visit us at 2315 E Stone Rd\, Wylie\, TX 75098\, on Saturdays from 8 a.m. to 2 p.m. and Sundays from 10 a.m. to 2 p.m. Come sip on your favorite brew\, shop\, and support local!
URL:https://discoverwylie.com/events/shoemaker-hardt-pop-up-at-wylie-urban-farm-market-8/
LOCATION:Wylie Urban Farm & Market\, 2315 E Stone Road\, Wylie\, TX\, 75098
CATEGORIES:Coffee
ATTACH;FMTTYPE=image/jpeg:https://discoverwylie.com/wp-content/uploads/2025/06/IMG_1513-scaled.jpg
END:VEVENT
END:VCALENDAR