BEGIN:VCALENDAR
VERSION:2.0
PRODID:-//Discover Downtown Wylie - ECPv6.15.18//NONSGML v1.0//EN
CALSCALE:GREGORIAN
METHOD:PUBLISH
X-ORIGINAL-URL:https://discoverwylie.com
X-WR-CALDESC:Events for Discover Downtown Wylie
REFRESH-INTERVAL;VALUE=DURATION:PT1H
X-Robots-Tag:noindex
X-PUBLISHED-TTL:PT1H
BEGIN:VTIMEZONE
TZID:America/Chicago
BEGIN:DAYLIGHT
TZOFFSETFROM:-0600
TZOFFSETTO:-0500
TZNAME:CDT
DTSTART:20240310T080000
END:DAYLIGHT
BEGIN:STANDARD
TZOFFSETFROM:-0500
TZOFFSETTO:-0600
TZNAME:CST
DTSTART:20241103T070000
END:STANDARD
BEGIN:DAYLIGHT
TZOFFSETFROM:-0600
TZOFFSETTO:-0500
TZNAME:CDT
DTSTART:20250309T080000
END:DAYLIGHT
BEGIN:STANDARD
TZOFFSETFROM:-0500
TZOFFSETTO:-0600
TZNAME:CST
DTSTART:20251102T070000
END:STANDARD
BEGIN:DAYLIGHT
TZOFFSETFROM:-0600
TZOFFSETTO:-0500
TZNAME:CDT
DTSTART:20260308T080000
END:DAYLIGHT
BEGIN:STANDARD
TZOFFSETFROM:-0500
TZOFFSETTO:-0600
TZNAME:CST
DTSTART:20261101T070000
END:STANDARD
END:VTIMEZONE
BEGIN:VEVENT
DTSTART;TZID=America/Chicago:20250927T100000
DTEND;TZID=America/Chicago:20250927T140000
DTSTAMP:20260422T050850
CREATED:20250818T133848Z
LAST-MODIFIED:20250920T214600Z
UID:10237-1758967200-1758981600@discoverwylie.com
SUMMARY:Brewed on Ballard Coffee Crawl
DESCRIPTION:Coffee lovers\, this one’s for you! Join us for the very first Brewed on Ballard Coffee Crawl in historic Downtown Wylie! \nSaturday\, September 27\n10 AM – 2 PM \nSip\, stroll\, and shop your way through 10+ stops of local coffee tastings\, cozy vibes\, and small-town charm. Start at Shoemaker & Hardt or Coffee at the Hub to grab your passport\, then complete the crawl for a chance to win raffle prizes! \nYour ticket includes:\nCoffee tastings at every stop\nRaffle entry\nA morning full of caffeine + community\nBring your mug (or check out our merch section)\, round up your coffee crew\, and join us for the ultimate local coffee adventure. \nTickets on sale now—don’t wait\, this one’s brewing fast! Link in our bio.
URL:https://discoverwylie.com/events/brewed-on-ballard-coffee-crawl/
LOCATION:Shoemaker & Hardt\, 105 N Ballard Ave\, Wylie\, TX\, 75098\, United States
CATEGORIES:Coffee
ATTACH;FMTTYPE=image/jpeg:https://discoverwylie.com/wp-content/uploads/2025/08/IMG_8104.jpeg
END:VEVENT
END:VCALENDAR