BEGIN:VCALENDAR
VERSION:2.0
PRODID:-//Discover Downtown Wylie - ECPv6.15.18//NONSGML v1.0//EN
CALSCALE:GREGORIAN
METHOD:PUBLISH
X-ORIGINAL-URL:https://discoverwylie.com
X-WR-CALDESC:Events for Discover Downtown Wylie
REFRESH-INTERVAL;VALUE=DURATION:PT1H
X-Robots-Tag:noindex
X-PUBLISHED-TTL:PT1H
BEGIN:VTIMEZONE
TZID:America/Chicago
BEGIN:DAYLIGHT
TZOFFSETFROM:-0600
TZOFFSETTO:-0500
TZNAME:CDT
DTSTART:20250309T080000
END:DAYLIGHT
BEGIN:STANDARD
TZOFFSETFROM:-0500
TZOFFSETTO:-0600
TZNAME:CST
DTSTART:20251102T070000
END:STANDARD
BEGIN:DAYLIGHT
TZOFFSETFROM:-0600
TZOFFSETTO:-0500
TZNAME:CDT
DTSTART:20260308T080000
END:DAYLIGHT
BEGIN:STANDARD
TZOFFSETFROM:-0500
TZOFFSETTO:-0600
TZNAME:CST
DTSTART:20261101T070000
END:STANDARD
BEGIN:DAYLIGHT
TZOFFSETFROM:-0600
TZOFFSETTO:-0500
TZNAME:CDT
DTSTART:20270314T080000
END:DAYLIGHT
BEGIN:STANDARD
TZOFFSETFROM:-0500
TZOFFSETTO:-0600
TZNAME:CST
DTSTART:20271107T070000
END:STANDARD
END:VTIMEZONE
BEGIN:VEVENT
DTSTART;TZID=America/Chicago:20260228T100000
DTEND;TZID=America/Chicago:20260228T140000
DTSTAMP:20260421T202040
CREATED:20260201T002220Z
LAST-MODIFIED:20260212T003147Z
UID:11211-1772272800-1772287200@discoverwylie.com
SUMMARY:Brewed on Ballard Coffee Crawl
DESCRIPTION:Fall in love with local coffee Spend Valentine’s Day sipping\, strolling\, and shopping your way through Historic Downtown Wylie during our Brewed on Ballard Coffee Crawl.\nEnjoy 14 stops featuring unique coffee tastings from local favorites while exploring charming downtown shops along the way. Whether you’re coming with your Valentine\, your besties\, or flying solo\, this crawl is all about cozy vibes\, good company\, and really great coffee.\nHow it works:• Start at Shoemaker & Hardt to pick up your passport• Sip your way through each stop and collect your stamps• End at Coffee at the Hub to receive your Brewed on Ballard souvenir mug\nYour ticket includes:– Coffee tastings at each stop– A collectible Brewed on Ballard souvenir mug– A Valentine’s Day experience brewed with love\nGrab your friends\, your Valentine\, or just your favorite mug-holding hand and join us for a sweet\, caffeine-filled way to celebrate Valentine’s Day
URL:https://discoverwylie.com/events/brewed-on-ballard-coffee-crawl-2/
LOCATION:Historic Downtown Wylie
CATEGORIES:Coffee,Coffee Crawl,Sip and Shop
ATTACH;FMTTYPE=image/png:https://discoverwylie.com/wp-content/uploads/2026/01/Screenshot_11-2-2026_182846_.png
END:VEVENT
END:VCALENDAR