BEGIN:VCALENDAR
VERSION:2.0
PRODID:-//Discover Downtown Wylie - ECPv6.15.18//NONSGML v1.0//EN
CALSCALE:GREGORIAN
METHOD:PUBLISH
X-WR-CALNAME:Discover Downtown Wylie
X-ORIGINAL-URL:https://discoverwylie.com
X-WR-CALDESC:Events for Discover Downtown Wylie
REFRESH-INTERVAL;VALUE=DURATION:PT1H
X-Robots-Tag:noindex
X-PUBLISHED-TTL:PT1H
BEGIN:VTIMEZONE
TZID:America/Chicago
BEGIN:DAYLIGHT
TZOFFSETFROM:-0600
TZOFFSETTO:-0500
TZNAME:CDT
DTSTART:20240310T080000
END:DAYLIGHT
BEGIN:STANDARD
TZOFFSETFROM:-0500
TZOFFSETTO:-0600
TZNAME:CST
DTSTART:20241103T070000
END:STANDARD
BEGIN:DAYLIGHT
TZOFFSETFROM:-0600
TZOFFSETTO:-0500
TZNAME:CDT
DTSTART:20250309T080000
END:DAYLIGHT
BEGIN:STANDARD
TZOFFSETFROM:-0500
TZOFFSETTO:-0600
TZNAME:CST
DTSTART:20251102T070000
END:STANDARD
BEGIN:DAYLIGHT
TZOFFSETFROM:-0600
TZOFFSETTO:-0500
TZNAME:CDT
DTSTART:20260308T080000
END:DAYLIGHT
BEGIN:STANDARD
TZOFFSETFROM:-0500
TZOFFSETTO:-0600
TZNAME:CST
DTSTART:20261101T070000
END:STANDARD
BEGIN:DAYLIGHT
TZOFFSETFROM:-0600
TZOFFSETTO:-0500
TZNAME:CDT
DTSTART:20270314T080000
END:DAYLIGHT
BEGIN:STANDARD
TZOFFSETFROM:-0500
TZOFFSETTO:-0600
TZNAME:CST
DTSTART:20271107T070000
END:STANDARD
END:VTIMEZONE
BEGIN:VEVENT
DTSTART;TZID=America/Chicago:20260404T110000
DTEND;TZID=America/Chicago:20260404T150000
DTSTAMP:20260421T173114
CREATED:20260309T150635Z
LAST-MODIFIED:20260309T150635Z
UID:11404-1775300400-1775314800@discoverwylie.com
SUMMARY:Easter Egg Hunt at In-Sync Exotics
DESCRIPTION:Join Us for Our Easter Egg Hunt at In-Sync Exotics! Bring your own basket for a unique Easter egg hunt! We’ll have food\, plus face painting\, a bounce house and games! Gates open at 11am. Visit our website for a full event schedule.
URL:https://discoverwylie.com/events/easter-egg-hunt-at-in-sync-exotics/
LOCATION:In Sync Exotics\, 3430 Skyview Drive\, Wylie\, TX\, 75098\, United States
CATEGORIES:Easter,Exotic Cats
ATTACH;FMTTYPE=image/png:https://discoverwylie.com/wp-content/uploads/2026/03/EasterFlyer2026-Digital.png
END:VEVENT
BEGIN:VEVENT
DTSTART;TZID=America/Chicago:20260214T070000
DTEND;TZID=America/Chicago:20260214T100000
DTSTAMP:20260421T173114
CREATED:20260115T133718Z
LAST-MODIFIED:20260115T133718Z
UID:11103-1771052400-1771063200@discoverwylie.com
SUMMARY:Valentine's Pancake Breakfast
DESCRIPTION:All you can eat pancakes with a variety of toppings\, fruit\, yogurt\, juice & coffee. After Breakfast take a self guided tour to see how our cats get their days started.\nAdmission: $25.00 for adults\, $15.00 for seniors & kids (4-12) under 4 is free
URL:https://discoverwylie.com/events/valentines-pancake-breakfast/
LOCATION:In Sync Exotics\, 3430 Skyview Drive\, Wylie\, TX\, 75098\, United States
CATEGORIES:Exotic Cats
ATTACH;FMTTYPE=image/png:https://discoverwylie.com/wp-content/uploads/2026/01/ValentinesPancakeFlyer2026adm-Digital.png
END:VEVENT
BEGIN:VEVENT
DTSTART;TZID=America/Chicago:20251129T130000
DTEND;TZID=America/Chicago:20251129T150000
DTSTAMP:20260421T173114
CREATED:20251111T131202Z
LAST-MODIFIED:20251111T131202Z
UID:10888-1764421200-1764428400@discoverwylie.com
SUMMARY:Fowl Fling
DESCRIPTION:Come see the exotic cats of In-Sync get their Thanksgiving treats! It’s their favorite event! We start passing out treats at 1:00.
URL:https://discoverwylie.com/events/fowl-fling/
LOCATION:In Sync Exotics\, 3430 Skyview Drive\, Wylie\, TX\, 75098\, United States
CATEGORIES:Exotic Cats
ATTACH;FMTTYPE=image/png:https://discoverwylie.com/wp-content/uploads/2025/11/NEWFowlFling2025Digital.png
END:VEVENT
BEGIN:VEVENT
DTSTART;TZID=America/Chicago:20251101T110000
DTEND;TZID=America/Chicago:20251101T140000
DTSTAMP:20260421T173114
CREATED:20250923T220056Z
LAST-MODIFIED:20250923T220056Z
UID:10579-1761994800-1762005600@discoverwylie.com
SUMMARY:Fall Festival and Pumpkin Toss
DESCRIPTION:Come join us for a fun filled day. We will have a bounce house\, face painting\, games\, vendors\, food for sale\, a raffle\, online auction & our cats will be getting pumpkins in the afternoon.\nAdmission is $17.00 for adults\, $12.00 for kids (4-12) & seniors. Under 4 is free. \nNovember 1\, 2025 \n11:00-4:00
URL:https://discoverwylie.com/events/fall-festival-and-pumpkin-toss/
LOCATION:In Sync Exotics\, 3430 Skyview Drive\, Wylie\, TX\, 75098\, United States
CATEGORIES:Exotic Cats,Food,Vendors
ATTACH;FMTTYPE=image/png:https://discoverwylie.com/wp-content/uploads/2025/09/Fall-festival-2025-digital.png
END:VEVENT
BEGIN:VEVENT
DTSTART;TZID=America/Chicago:20250816T070000
DTEND;TZID=America/Chicago:20250816T100000
DTSTAMP:20260421T173114
CREATED:20250721T170604Z
LAST-MODIFIED:20250721T170604Z
UID:10092-1755327600-1755338400@discoverwylie.com
SUMMARY:In-Sync Exotics Summer Pancake Breakfast
DESCRIPTION:
URL:https://discoverwylie.com/events/in-sync-exotics-summer-pancake-breakfast/
LOCATION:In-Sync Exotics\, 3430 Skyview Drive\, Wylie\, TX\, 75094\, United States
CATEGORIES:Exotic Cats
ATTACH;FMTTYPE=image/png:https://discoverwylie.com/wp-content/uploads/2025/06/PancakeFlyer2025.png
END:VEVENT
END:VCALENDAR