BEGIN:VCALENDAR
VERSION:2.0
PRODID:-//Discover Downtown Wylie - ECPv6.15.18//NONSGML v1.0//EN
CALSCALE:GREGORIAN
METHOD:PUBLISH
X-ORIGINAL-URL:https://discoverwylie.com
X-WR-CALDESC:Events for Discover Downtown Wylie
REFRESH-INTERVAL;VALUE=DURATION:PT1H
X-Robots-Tag:noindex
X-PUBLISHED-TTL:PT1H
BEGIN:VTIMEZONE
TZID:America/Chicago
BEGIN:DAYLIGHT
TZOFFSETFROM:-0600
TZOFFSETTO:-0500
TZNAME:CDT
DTSTART:20240310T080000
END:DAYLIGHT
BEGIN:STANDARD
TZOFFSETFROM:-0500
TZOFFSETTO:-0600
TZNAME:CST
DTSTART:20241103T070000
END:STANDARD
BEGIN:DAYLIGHT
TZOFFSETFROM:-0600
TZOFFSETTO:-0500
TZNAME:CDT
DTSTART:20250309T080000
END:DAYLIGHT
BEGIN:STANDARD
TZOFFSETFROM:-0500
TZOFFSETTO:-0600
TZNAME:CST
DTSTART:20251102T070000
END:STANDARD
BEGIN:DAYLIGHT
TZOFFSETFROM:-0600
TZOFFSETTO:-0500
TZNAME:CDT
DTSTART:20260308T080000
END:DAYLIGHT
BEGIN:STANDARD
TZOFFSETFROM:-0500
TZOFFSETTO:-0600
TZNAME:CST
DTSTART:20261101T070000
END:STANDARD
END:VTIMEZONE
BEGIN:VEVENT
DTSTART;TZID=America/Chicago:20250503T120000
DTEND;TZID=America/Chicago:20250503T170000
DTSTAMP:20260422T100003
CREATED:20250318T144043Z
LAST-MODIFIED:20250318T144043Z
UID:9667-1746273600-1746291600@discoverwylie.com
SUMMARY:Cinco de Mayo Wine Walk hosted by Landon Winery Wylie
DESCRIPTION:¡Ay\, caramba! Indulge in a leisurely afternoon of wine 🍷 and Spring shopping 🎁 Snag your spot to attend the most entertaining way to wine and shop Historic Downtown Wylie! \nYou’ll enjoy premium Landon wines as you wine & walk your way through Historic Wylie’s charming boutiques. Special Cinco do Mayo Savings for sippers at each stop! \n🍷 $35 + tax: Experience 15 tastes of delicious wines with a souvenir wine glass and access to boutique discounts at each stop. Turn in your completed ticket at Landon Winery for your Bonus Pour and enjoy a complimentary Charcuterie Grazing Table. **Wine club member discounts apply \n🍷 Special Wine Discounts Stock up on your favorites now! Purchase your favorite wines at exclusive Wine Walk discounts to take home and enjoy\, or give them as gifts to your favorite friends and family members. \nGrab a partner or a group\, check-in at the winery for your souvenir glass and ticket passport\, and prepare to be enchanted by Historic Downtown Wylie!
URL:https://discoverwylie.com/events/cinco-de-mayo-wine-walk-hosted-by-landon-winery-wylie/
LOCATION:Landon Winery\, 103 N. Ballard Ave\, Wylie\, TX\, 75098\, United States
CATEGORIES:Food,Shop,Wine
ATTACH;FMTTYPE=image/jpeg:https://discoverwylie.com/wp-content/uploads/2025/03/Picture3.jpg
END:VEVENT
BEGIN:VEVENT
DTSTART;TZID=America/Chicago:20250505T110000
DTEND;TZID=America/Chicago:20250505T130000
DTSTAMP:20260422T100003
CREATED:20190412T172106Z
LAST-MODIFIED:20241206T212656Z
UID:695-1746442800-1746450000@discoverwylie.com
SUMMARY:Taste of Wylie
DESCRIPTION:Each year\, the community gathers at the Taste of Wylie to sample a variety of foods from local restaurants and food trucks while supporting area food pantries. Every penny of the revenue generated at this event\, either through ticket sales or sponsorships\, goes directly to support Wylie Community Christian Care Center\, Amazing Grace\, 5 Loaves Food Pantry\, and Hope for the Cities.
URL:https://discoverwylie.com/events/taste-of-wylie/
LOCATION:TX
CATEGORIES:Food,Fundraiser
ATTACH;FMTTYPE=image/jpeg:https://discoverwylie.com/wp-content/uploads/2019/04/TOW-Logo-Orange-small.jpg
END:VEVENT
BEGIN:VEVENT
DTSTART;TZID=America/Chicago:20250523T190000
DTEND;TZID=America/Chicago:20250523T203000
DTSTAMP:20260422T100003
CREATED:20250318T144351Z
LAST-MODIFIED:20250318T144351Z
UID:9670-1748026800-1748032200@discoverwylie.com
SUMMARY:Build Your Own Butter Board at Landon Winery Wylie
DESCRIPTION:What is a butter board and how do you make one? We’ve partnered with Boards by B to pair your favorite Landon wines with this tasty\, mouth-watering treat AND when we’re finished\, you get to take home your wooden board to re-create your very own version! If you’re curious what a butter board even is\, how much work goes into making a butter board or whether it’s simply more fun to just say “butter board” than it is to actually make one\, “B” is here to answer all of your questions. \nUsing a base of compound butters and spreadable cheeses\, we’ll drop on a number of toppings or mix-ins including herbs\, nuts\, seeds\, fruit\, radishes\, honey\, jam or even bits of smoked salmon or diced\, cured meats — and serve it all up with toasted bread\, crackers or any such vessel to help deliver this fancied-up concoction to your face. \nA butter board isn’t complete without something fabulous to wash it down. You’ll taste your way through these savory and sweet bites with our selection of perfectly paired wines. Prepare to be wowed by the variety and depth of flavors. \nSeats are very limited so get your tickets now! $45 per person plus tax. \nIncludes 🍷 (5) 2 oz pairing pours of premium Landon wines\, 🧈 you’ll create your own Personal Butter Board with all the toppings\, 🧀 the Wooden Board to take home for your own charcuterie or butter board creation\, 👩‍🏫Guided Tasting by “B”\, our very own Charcuterie & Board Expert ; Wine Club Member Discounts apply. \n**This is a tasting event\, so if you’re hungry for more than “bites” feel free to add on a meat & cheese board or a flatbread with your ticket purchase.
URL:https://discoverwylie.com/events/build-your-own-butter-board-at-landon-winery-wylie/
LOCATION:Landon Winery\, 103 N. Ballard Ave\, Wylie\, TX\, 75098\, United States
CATEGORIES:Food,Wine
ATTACH;FMTTYPE=image/jpeg:https://discoverwylie.com/wp-content/uploads/2025/03/Picture4.jpg
END:VEVENT
END:VCALENDAR