BEGIN:VCALENDAR
VERSION:2.0
PRODID:-//Discover Downtown Wylie - ECPv6.15.18//NONSGML v1.0//EN
CALSCALE:GREGORIAN
METHOD:PUBLISH
X-ORIGINAL-URL:https://discoverwylie.com
X-WR-CALDESC:Events for Discover Downtown Wylie
REFRESH-INTERVAL;VALUE=DURATION:PT1H
X-Robots-Tag:noindex
X-PUBLISHED-TTL:PT1H
BEGIN:VTIMEZONE
TZID:America/Chicago
BEGIN:DAYLIGHT
TZOFFSETFROM:-0600
TZOFFSETTO:-0500
TZNAME:CDT
DTSTART:20240310T080000
END:DAYLIGHT
BEGIN:STANDARD
TZOFFSETFROM:-0500
TZOFFSETTO:-0600
TZNAME:CST
DTSTART:20241103T070000
END:STANDARD
BEGIN:DAYLIGHT
TZOFFSETFROM:-0600
TZOFFSETTO:-0500
TZNAME:CDT
DTSTART:20250309T080000
END:DAYLIGHT
BEGIN:STANDARD
TZOFFSETFROM:-0500
TZOFFSETTO:-0600
TZNAME:CST
DTSTART:20251102T070000
END:STANDARD
BEGIN:DAYLIGHT
TZOFFSETFROM:-0600
TZOFFSETTO:-0500
TZNAME:CDT
DTSTART:20260308T080000
END:DAYLIGHT
BEGIN:STANDARD
TZOFFSETFROM:-0500
TZOFFSETTO:-0600
TZNAME:CST
DTSTART:20261101T070000
END:STANDARD
END:VTIMEZONE
BEGIN:VEVENT
DTSTART;TZID=America/Chicago:20250302T140000
DTEND;TZID=America/Chicago:20250302T160000
DTSTAMP:20260422T163122
CREATED:20250211T002721Z
LAST-MODIFIED:20250224T173915Z
UID:9386-1740924000-1740931200@discoverwylie.com
SUMMARY:Meet the Maker Event
DESCRIPTION:Shoemaker & Hardt will be celebrating all of our talented artisans\, creators\, and partners who help make S&H as special as it is!  This event will offer a wonderful opportunity for you to connect with the artists in our community and learn the story behind their craft. We will also be raffling some of our favorite items!
URL:https://discoverwylie.com/events/meet-the-maker/
LOCATION:Shoemaker & Hardt\, 105 N Ballard Ave\, Wylie\, TX\, 75098\, United States
CATEGORIES:Food
ATTACH;FMTTYPE=image/jpeg:https://discoverwylie.com/wp-content/uploads/2025/02/SH-Meet-the-Maker.jpeg
END:VEVENT
END:VCALENDAR