BEGIN:VCALENDAR
VERSION:2.0
PRODID:-//Discover Downtown Wylie - ECPv6.15.18//NONSGML v1.0//EN
CALSCALE:GREGORIAN
METHOD:PUBLISH
X-WR-CALNAME:Discover Downtown Wylie
X-ORIGINAL-URL:https://discoverwylie.com
X-WR-CALDESC:Events for Discover Downtown Wylie
REFRESH-INTERVAL;VALUE=DURATION:PT1H
X-Robots-Tag:noindex
X-PUBLISHED-TTL:PT1H
BEGIN:VTIMEZONE
TZID:America/Chicago
BEGIN:DAYLIGHT
TZOFFSETFROM:-0600
TZOFFSETTO:-0500
TZNAME:CDT
DTSTART:20240310T080000
END:DAYLIGHT
BEGIN:STANDARD
TZOFFSETFROM:-0500
TZOFFSETTO:-0600
TZNAME:CST
DTSTART:20241103T070000
END:STANDARD
BEGIN:DAYLIGHT
TZOFFSETFROM:-0600
TZOFFSETTO:-0500
TZNAME:CDT
DTSTART:20250309T080000
END:DAYLIGHT
BEGIN:STANDARD
TZOFFSETFROM:-0500
TZOFFSETTO:-0600
TZNAME:CST
DTSTART:20251102T070000
END:STANDARD
BEGIN:DAYLIGHT
TZOFFSETFROM:-0600
TZOFFSETTO:-0500
TZNAME:CDT
DTSTART:20260308T080000
END:DAYLIGHT
BEGIN:STANDARD
TZOFFSETFROM:-0500
TZOFFSETTO:-0600
TZNAME:CST
DTSTART:20261101T070000
END:STANDARD
BEGIN:DAYLIGHT
TZOFFSETFROM:-0600
TZOFFSETTO:-0500
TZNAME:CDT
DTSTART:20270314T080000
END:DAYLIGHT
BEGIN:STANDARD
TZOFFSETFROM:-0500
TZOFFSETTO:-0600
TZNAME:CST
DTSTART:20271107T070000
END:STANDARD
END:VTIMEZONE
BEGIN:VEVENT
DTSTART;TZID=America/Chicago:20260314T100000
DTEND;TZID=America/Chicago:20260314T180000
DTSTAMP:20260421T162455
CREATED:20260212T001629Z
LAST-MODIFIED:20260302T193114Z
UID:11250-1773482400-1773511200@discoverwylie.com
SUMMARY:Downtown Wylie Spring Sidewalk Sale
DESCRIPTION:Join us for Historic Downtown Wylie’s Spring Sidewalk Sale.\nTake a stroll down Ballard for some great finds and explore all the shopping\, dining\, entertainment and more that we have to offer in Historic Downtown Wylie.\nDowntown Wylie merchants will be having some great deals that will be set up on the sidewalk in front of their shops. Look for clothing racks\, tables\, balloons and more. Be sure to visit the inside of the shops as well for more selection of items.\n\nSaturday\, March 14th10am-6pm\n\nThank you for Supporting Small Business.
URL:https://discoverwylie.com/events/downtown-wylie-spring-sidewalk-sale/
LOCATION:Historic Downtown Wylie
CATEGORIES:Food,Gifts,Shop,Sidewalk Sale
ATTACH;FMTTYPE=image/png:https://discoverwylie.com/wp-content/uploads/2026/02/Organic-Spring-Sale-Portrait-Poster2.png
END:VEVENT
BEGIN:VEVENT
DTSTART;TZID=America/Chicago:20260213T190000
DTEND;TZID=America/Chicago:20260213T210000
DTSTAMP:20260421T162455
CREATED:20260116T235023Z
LAST-MODIFIED:20260117T000739Z
UID:11111-1771009200-1771016400@discoverwylie.com
SUMMARY:Valentine's RedParty Wine Dinner
DESCRIPTION:Things are heating up! Join us for an unforgettable RedParty Wine Dinner at Landon Winery — a romantic evening filled with bold wines\, beautiful pairings\, and irresistible vibes.\nDress to impress in RED and bring your partner\, your bestie\, or your favorite people. Love comes in many forms\, and this night is all about celebrating them.\nEnjoy a four-course dinner crafted by Chef Justin Box\, with each course perfectly paired with premium Landon wines hand-selected by Bob Landon and Winemaker Jason Dodson.\nSeating is limited\, and this intimate evening will sell out quickly — reserve your spot and let us set the mood!$129 plus tax and gratuity per person; wine club member discounts apply.
URL:https://discoverwylie.com/events/valentines-day-red-party/
LOCATION:Landon Winery\, 103 N. Ballard Ave\, Wylie\, TX\, 75098\, United States
CATEGORIES:Food,Valentine's,Wine
ATTACH;FMTTYPE=image/jpeg:https://discoverwylie.com/wp-content/uploads/2026/01/Valentine-Dinner-Wylie.jpg
END:VEVENT
BEGIN:VEVENT
DTSTART;TZID=America/Chicago:20260110T170000
DTEND;TZID=America/Chicago:20260110T210000
DTSTAMP:20260421T162455
CREATED:20260107T160100Z
LAST-MODIFIED:20260107T160100Z
UID:11066-1768064400-1768078800@discoverwylie.com
SUMMARY:Cousins Maine Lobster at Landon Winery Wylie
DESCRIPTION:Wine down with lobster at Landon Winery – Wylie!\nWhat’s on the menu?• Maine\, Garlic\, & Connecticut Lobster Rolls• Lobster Tacos & Quesadillas• Lobster Tots and Lobster Tails• Lobster Grilled Cheese• Creamy Lobster Bisque or Clam Chowder• Whoopie Pies & more!\nGrab a glass (or bottle!) from Landon’s amazing wine selection and pair it with your favorite lobster dishes — it’s the perfect match!\nDon’t forget to use the CML app to skip the line & earn rewards!
URL:https://discoverwylie.com/events/cousins-maine-lobster-at-landon-winery-wylie-3/
LOCATION:Landon Winery\, 103 N. Ballard Ave\, Wylie\, TX\, 75098\, United States
CATEGORIES:Food,Food Truck,Wine
ATTACH;FMTTYPE=image/jpeg:https://discoverwylie.com/wp-content/uploads/2026/01/593876086_1180034064285858_5030164599534198266_n.jpg
END:VEVENT
BEGIN:VEVENT
DTSTART;TZID=America/Chicago:20251206T120000
DTEND;TZID=America/Chicago:20251206T140000
DTSTAMP:20260421T162455
CREATED:20251104T214739Z
LAST-MODIFIED:20251104T215819Z
UID:10850-1765022400-1765029600@discoverwylie.com
SUMMARY:Live Christmas Music
DESCRIPTION:Live music at Bold BBQ
URL:https://discoverwylie.com/events/live-christmas-music/
LOCATION:Bold BBQ\, 114 N Ballard Ave\, Wylie\, TX\, 75098\, United States
CATEGORIES:Food,Music
ATTACH;FMTTYPE=image/jpeg:https://discoverwylie.com/wp-content/uploads/2025/11/BBP-FB-Event-christmas-music-980x513-1.jpg
END:VEVENT
BEGIN:VEVENT
DTSTART;TZID=America/Chicago:20251206T090000
DTEND;TZID=America/Chicago:20251206T140000
DTSTAMP:20260421T162455
CREATED:20251104T214914Z
LAST-MODIFIED:20251104T215858Z
UID:10852-1765011600-1765029600@discoverwylie.com
SUMMARY:Holiday Brunch at Bold BBQ
DESCRIPTION:
URL:https://discoverwylie.com/events/holiday-brunch-at-bold-bbq/
LOCATION:Bold BBQ\, 114 N Ballard Ave\, Wylie\, TX\, 75098\, United States
CATEGORIES:Food,Holiday
ATTACH;FMTTYPE=image/png:https://discoverwylie.com/wp-content/uploads/2025/11/1200-BBP-event-holiday-brunch-980x551-1.png
END:VEVENT
BEGIN:VEVENT
DTSTART;TZID=America/Chicago:20251122T180000
DTEND;TZID=America/Chicago:20251122T200000
DTSTAMP:20260421T162455
CREATED:20251104T214606Z
LAST-MODIFIED:20251104T215746Z
UID:10848-1763834400-1763841600@discoverwylie.com
SUMMARY:Jesse Lee Watts Live
DESCRIPTION:Live music at Bold BBQ
URL:https://discoverwylie.com/events/jesse-lee-watts-live/
LOCATION:Bold BBQ\, 114 N Ballard Ave\, Wylie\, TX\, 75098\, United States
CATEGORIES:Food,Music
ATTACH;FMTTYPE=image/jpeg:https://discoverwylie.com/wp-content/uploads/2025/11/BBP-FB-Event-jesse-lee-watts-980x513-1.jpg
END:VEVENT
BEGIN:VEVENT
DTSTART;TZID=America/Chicago:20251121T180000
DTEND;TZID=America/Chicago:20251121T200000
DTSTAMP:20260421T162455
CREATED:20251104T214429Z
LAST-MODIFIED:20251104T215713Z
UID:10846-1763748000-1763755200@discoverwylie.com
SUMMARY:Bronson Louis Live
DESCRIPTION:Live music at Bold BBQ
URL:https://discoverwylie.com/events/bronson-louis-live/
LOCATION:TX
CATEGORIES:Food,Music
ATTACH;FMTTYPE=image/jpeg:https://discoverwylie.com/wp-content/uploads/2025/11/BBP-FB-Event-bronson-louis-980x513-1.jpg
ORGANIZER;CN="Bold BBQ":MAILTO:info@boldbbqpit.com
END:VEVENT
BEGIN:VEVENT
DTSTART;TZID=America/Chicago:20251115T180000
DTEND;TZID=America/Chicago:20251115T200000
DTSTAMP:20260421T162455
CREATED:20251104T214314Z
LAST-MODIFIED:20251104T215640Z
UID:10844-1763229600-1763236800@discoverwylie.com
SUMMARY:Creek Bed Drifters Live
DESCRIPTION:Live music at Bold BBQ
URL:https://discoverwylie.com/events/creek-bed-drifters-live/
LOCATION:TX
CATEGORIES:Food,Music
ATTACH;FMTTYPE=image/jpeg:https://discoverwylie.com/wp-content/uploads/2025/11/BBP-FB-Event-creek-bed-drifters.jpg
END:VEVENT
BEGIN:VEVENT
DTSTART;TZID=America/Chicago:20251115T090000
DTEND;TZID=America/Chicago:20251115T130000
DTSTAMP:20260421T162455
CREATED:20250909T212738Z
LAST-MODIFIED:20250909T212738Z
UID:10447-1763197200-1763211600@discoverwylie.com
SUMMARY:Wylie Farmers Market
DESCRIPTION:Join us for a holiday inspired Wylie Farmers Market in Historic Downtown Wylie at Olde City Park on Saturday\, November 15th from 9am -1pm! Come meet our farmers\, artisans\, bakers\, and a few incredible non profits\, and help us in supporting our small and local businesses up and down Ballard Ave while doing some early holiday shopping!  \nNovember 15\, 2025 \n9am – 1pm
URL:https://discoverwylie.com/events/wylie-farmers-market-6/
LOCATION:Olde City Park\, 112 S Ballard Ave\, Wylie\, TX\, 75098\, United States
CATEGORIES:Arts and Crafts,Farmers Market,Food,Holiday,Shop,Vendors
ATTACH;FMTTYPE=image/jpeg:https://discoverwylie.com/wp-content/uploads/2025/09/WFM-HOLIDAY-1115.jpeg
END:VEVENT
BEGIN:VEVENT
DTSTART;TZID=America/Chicago:20251114T180000
DTEND;TZID=America/Chicago:20251114T200000
DTSTAMP:20260421T162455
CREATED:20251104T214204Z
LAST-MODIFIED:20251104T215602Z
UID:10842-1763143200-1763150400@discoverwylie.com
SUMMARY:Jay Cober Live
DESCRIPTION:Live music at Bold BBQ
URL:https://discoverwylie.com/events/jay-cober-live/
LOCATION:Bold BBQ\, 114 N Ballard Ave\, Wylie\, TX\, 75098\, United States
CATEGORIES:Food,Music
ATTACH;FMTTYPE=image/jpeg:https://discoverwylie.com/wp-content/uploads/2025/11/BBP-FB-Event-jay-cober-980x513-1.jpg
END:VEVENT
BEGIN:VEVENT
DTSTART;TZID=America/Chicago:20251108T180000
DTEND;TZID=America/Chicago:20251108T200000
DTSTAMP:20260421T162455
CREATED:20251104T213621Z
LAST-MODIFIED:20251104T215524Z
UID:10839-1762624800-1762632000@discoverwylie.com
SUMMARY:Dale & Jada Live
DESCRIPTION:Live music at Bold BBQ
URL:https://discoverwylie.com/events/dale-jada-live/
LOCATION:Bold BBQ\, 114 N Ballard Ave\, Wylie\, TX\, 75098\, United States
CATEGORIES:Food,Music
ATTACH;FMTTYPE=image/jpeg:https://discoverwylie.com/wp-content/uploads/2025/11/BBP-FB-Event-dale-and-jada-980x513-1.jpg
END:VEVENT
BEGIN:VEVENT
DTSTART;TZID=America/Chicago:20251107T180000
DTEND;TZID=America/Chicago:20251107T200000
DTSTAMP:20260421T162455
CREATED:20251104T213504Z
LAST-MODIFIED:20251104T215443Z
UID:10837-1762538400-1762545600@discoverwylie.com
SUMMARY:Russ Lowry Live
DESCRIPTION:Live music at Bold BBQ
URL:https://discoverwylie.com/events/russ-lowry-live/
LOCATION:Bold BBQ\, 114 N Ballard Ave\, Wylie\, TX\, 75098\, United States
CATEGORIES:Food,Music
ATTACH;FMTTYPE=image/jpeg:https://discoverwylie.com/wp-content/uploads/2025/11/BBP-FB-Event-russ-lowry-980x513-1.jpg
END:VEVENT
BEGIN:VEVENT
DTSTART;TZID=America/Chicago:20251106T180000
DTEND;TZID=America/Chicago:20251106T210000
DTSTAMP:20260421T162455
CREATED:20251104T213318Z
LAST-MODIFIED:20251104T215158Z
UID:10834-1762452000-1762462800@discoverwylie.com
SUMMARY:Open Mic Night
DESCRIPTION:Sign up begins at 5pm
URL:https://discoverwylie.com/events/open-mic-night/
LOCATION:Bold BBQ\, 114 N Ballard Ave\, Wylie\, TX\, 75098\, United States
CATEGORIES:Food,Music
ATTACH;FMTTYPE=image/jpeg:https://discoverwylie.com/wp-content/uploads/2025/11/BBP-FB-open-mic-aaron-wilson.jpg
END:VEVENT
BEGIN:VEVENT
DTSTART;TZID=America/Chicago:20251101T110000
DTEND;TZID=America/Chicago:20251101T140000
DTSTAMP:20260421T162455
CREATED:20250923T220056Z
LAST-MODIFIED:20250923T220056Z
UID:10579-1761994800-1762005600@discoverwylie.com
SUMMARY:Fall Festival and Pumpkin Toss
DESCRIPTION:Come join us for a fun filled day. We will have a bounce house\, face painting\, games\, vendors\, food for sale\, a raffle\, online auction & our cats will be getting pumpkins in the afternoon.\nAdmission is $17.00 for adults\, $12.00 for kids (4-12) & seniors. Under 4 is free. \nNovember 1\, 2025 \n11:00-4:00
URL:https://discoverwylie.com/events/fall-festival-and-pumpkin-toss/
LOCATION:In Sync Exotics\, 3430 Skyview Drive\, Wylie\, TX\, 75098\, United States
CATEGORIES:Exotic Cats,Food,Vendors
ATTACH;FMTTYPE=image/png:https://discoverwylie.com/wp-content/uploads/2025/09/Fall-festival-2025-digital.png
END:VEVENT
BEGIN:VEVENT
DTSTART;TZID=America/Chicago:20251018T090000
DTEND;TZID=America/Chicago:20251018T130000
DTSTAMP:20260421T162455
CREATED:20250909T211203Z
LAST-MODIFIED:20250909T211426Z
UID:10438-1760778000-1760792400@discoverwylie.com
SUMMARY:Wylie Farmers Market
DESCRIPTION:Join us in the left side parking lot of B&B Wylie 12 for the Halloween themed Wylie Farmers Market on Saturday\, October 18th from 9am – 1pm! This will be the final regular market of 2025! Shop local\, shop small.  \nOctober 18\, 2025 \n9am – 1pm
URL:https://discoverwylie.com/events/wylie-farmers-market-3/
LOCATION:B&B Theatres Wylie 12\, 711 Woodbridge Pkwy\, Wylie\, TX\, 75098\, United States
CATEGORIES:Arts and Crafts,Farmers Market,Food,Shop,Vendors
ATTACH;FMTTYPE=image/jpeg:https://discoverwylie.com/wp-content/uploads/2025/09/October-18th-Market.jpeg
END:VEVENT
BEGIN:VEVENT
DTSTART;TZID=America/Chicago:20251005T120000
DTEND;TZID=America/Chicago:20251005T180000
DTSTAMP:20260421T162455
CREATED:20250823T012655Z
LAST-MODIFIED:20250830T011514Z
UID:10274-1759665600-1759687200@discoverwylie.com
SUMMARY:Oktoberfest
DESCRIPTION:Oktoberfest @ Glen Echo Brewing\nOctober 3\, 4\, & 5
URL:https://discoverwylie.com/events/oktoberfest-glen-echo-brewing-3/
LOCATION:Glen Echo Brewing\, 106 N Birmingham\, Wylie\, TX\, 75098\, United States
CATEGORIES:Beer,Food,Music,Vendors
ATTACH;FMTTYPE=image/png:https://discoverwylie.com/wp-content/uploads/2025/08/IMG_8219.png
END:VEVENT
BEGIN:VEVENT
DTSTART;TZID=America/Chicago:20251004T120000
DTEND;TZID=America/Chicago:20251004T230000
DTSTAMP:20260421T162455
CREATED:20250823T012421Z
LAST-MODIFIED:20250830T011611Z
UID:10271-1759579200-1759618800@discoverwylie.com
SUMMARY:Oktoberfest
DESCRIPTION:Oktoberfest @ Glen Echo Brewing\nOctober 3\, 4\, & 5\nDetailed schedule and event photo attached.
URL:https://discoverwylie.com/events/oktoberfest-glen-echo-brewing-2/
LOCATION:Glen Echo Brewing\, 106 N Birmingham\, Wylie\, TX\, 75098\, United States
CATEGORIES:Beer,Food,Music,Vendors
ATTACH;FMTTYPE=image/png:https://discoverwylie.com/wp-content/uploads/2025/08/IMG_8220.png
END:VEVENT
BEGIN:VEVENT
DTSTART;TZID=America/Chicago:20251004T090000
DTEND;TZID=America/Chicago:20251004T130000
DTSTAMP:20260421T162455
CREATED:20250909T212020Z
LAST-MODIFIED:20250909T212020Z
UID:10441-1759568400-1759582800@discoverwylie.com
SUMMARY:Wylie Farmers Market
DESCRIPTION:Join us in the left side parking lot of B&B Wylie 12 for the Wylie Farmers Market on Saturday\, October 4th from 9am – 1pm! Shop local\, shop small.  \nOctober 4\, 2025 \n9am – 1pm
URL:https://discoverwylie.com/events/wylie-farmers-market-4/
LOCATION:B&B Theatres Wylie 12\, 711 Woodbridge Pkwy\, Wylie\, TX\, 75098\, United States
CATEGORIES:Arts and Crafts,Farmers Market,Food,Holiday,Shop,Vendors
ATTACH;FMTTYPE=image/jpeg:https://discoverwylie.com/wp-content/uploads/2025/09/October-4th-Market.jpeg
END:VEVENT
BEGIN:VEVENT
DTSTART;TZID=America/Chicago:20251003T160000
DTEND;TZID=America/Chicago:20251003T230000
DTSTAMP:20260421T162455
CREATED:20250823T012039Z
LAST-MODIFIED:20250830T011632Z
UID:10269-1759507200-1759532400@discoverwylie.com
SUMMARY:Oktoberfest
DESCRIPTION:Oktoberfest @ Glen Echo Brewing\nOctober 3\, 4\, & 5
URL:https://discoverwylie.com/events/oktoberfest-glen-echo-brewing/
LOCATION:Glen Echo Brewing\, 106 N Birmingham\, Wylie\, TX\, 75098\, United States
CATEGORIES:Beer,Food,Music,Vendors
ATTACH;FMTTYPE=image/png:https://discoverwylie.com/wp-content/uploads/2025/08/IMG_8219.png
END:VEVENT
BEGIN:VEVENT
DTSTART;TZID=America/Chicago:20250926T160000
DTEND;TZID=America/Chicago:20250926T180000
DTSTAMP:20260421T162455
CREATED:20250920T163919Z
LAST-MODIFIED:20250920T163919Z
UID:10543-1758902400-1758909600@discoverwylie.com
SUMMARY:Tandoor Food Truck
DESCRIPTION:4pm-Sold Out
URL:https://discoverwylie.com/events/tandoor-food-truck/
LOCATION:Glen Echo Brewing\, 106 N Birmingham\, Wylie\, TX\, 75098\, United States
CATEGORIES:Beer,Food,Food Truck
ATTACH;FMTTYPE=image/png:https://discoverwylie.com/wp-content/uploads/2025/09/FB-event-Tandoor-Truck-calendar-8.5-x-11-in-1920-x-1080-px-1-1.png
END:VEVENT
BEGIN:VEVENT
DTSTART;TZID=America/Chicago:20250920T090000
DTEND;TZID=America/Chicago:20250920T130000
DTSTAMP:20260421T162455
CREATED:20250909T212418Z
LAST-MODIFIED:20250909T212418Z
UID:10444-1758358800-1758373200@discoverwylie.com
SUMMARY:Wylie Farmers Market
DESCRIPTION:Join us in the left side parking lot of B&B Wylie 12 for the Wylie Farmers Market on Saturday\, September 20th from 9am – 1pm. Shop local\, shop small!  \nSeptember 20\, 2025 \n9am / 1pm
URL:https://discoverwylie.com/events/wylie-farmers-market-5/
LOCATION:B&B Theatres Wylie 12\, 711 Woodbridge Pkwy\, Wylie\, TX\, 75098\, United States
CATEGORIES:Arts and Crafts,Farmers Market,Food,Holiday,Shop,Vendors
ATTACH;FMTTYPE=image/png:https://discoverwylie.com/wp-content/uploads/2025/09/September-20th-Market.png
END:VEVENT
BEGIN:VEVENT
DTSTART;TZID=America/Chicago:20250919T183000
DTEND;TZID=America/Chicago:20250919T203000
DTSTAMP:20260421T162455
CREATED:20250825T143724Z
LAST-MODIFIED:20250825T143724Z
UID:10296-1758306600-1758313800@discoverwylie.com
SUMMARY:Fall Into Flavor Wine Dinner
DESCRIPTION:Sip\, savor\, and fall head over heels for flavor at this autumn-inspired dinner experience \n🍂 Fall Into Flavor Wine Dinner Experience with Chef Justin Box\nAs the leaves turn and the air grows (slightly) crisp\, join us for a cozy autumn evening filled with rich flavors and perfectly paired wines. Our chef has crafted a seasonal multi-course menu celebrating the best of fall—think warming spices and decadent desserts—all thoughtfully matched with Landon Winery’s handcrafted wines. \nGather with friends\, raise a glass\, and experience the magic of autumn at the table. This is the season to slow down\, indulge\, and fall into flavor. 🍷✨ \n🌸 What’s Included:\n\nA chef-curated multi-course dinner presented by premiere Dallas Chef Justin Box\nThoughtfully paired Landon wines with each course\nA welcome glass to kick off the evening\nWarm\, harvest flavors to celebrate the season\nA relaxing evening of food\, wine\, and community\n\n🍽️ Menu:\n\nWelcome Small Bite paired with Bubbly of Your Choice\nSmoked Tomato Bisque paired with Pinot Noir\nTexas Beef with cajun creamed corn and wild herb chimmichuri pairedwith Tempranillo and Signature Reserve Blend\nTexas Olive Oil Cake with grapefruit and brown butter glaze and smoked pecans paired with Riesling or Grand Finale Texas Tawny Port\n\nVegetarian options available upon request. \n🎟️ Tickets: $90 plus tax and gratuity per person🔖 Wine Club members receive special pricing — $72 plus tax & gratuity🌿 Limited seating – reserve early to secure your spot! \nWhether you’re celebrating the harvest\, cozying up with friends\, or simply indulging in the best the season has to offer\, this dinner is the perfect way to toast autumn. So pull up a chair\, raise your glass\, and fall into flavor with us. 🍷✨
URL:https://discoverwylie.com/events/fall-into-flavor-wine-dinner/
LOCATION:Landon Winery\, 103 N. Ballard Ave\, Wylie\, TX\, 75098\, United States
CATEGORIES:Food,Wine
ATTACH;FMTTYPE=image/jpeg:https://discoverwylie.com/wp-content/uploads/2025/08/https___cdn.evbuc_.com_images_1103527513_214979796793_1_original.jpg
END:VEVENT
BEGIN:VEVENT
DTSTART;TZID=America/Chicago:20250906T090000
DTEND;TZID=America/Chicago:20250906T130000
DTSTAMP:20260421T162455
CREATED:20250823T014801Z
LAST-MODIFIED:20250823T014801Z
UID:10286-1757149200-1757163600@discoverwylie.com
SUMMARY:Wylie Farmers Market
DESCRIPTION:Join us for the Wylie Farmers Market on Saturday\, September 6th in the left side parking lot of B&B Theatres!!!
URL:https://discoverwylie.com/events/wylie-farmers-market-2/
LOCATION:B&B Theatres Wylie 12\, 711 Woodbridge Pkwy\, Wylie\, TX\, 75098\, United States
CATEGORIES:Arts and Crafts,Farmers Market,Food,Shop,Vendors
ATTACH;FMTTYPE=image/jpeg:https://discoverwylie.com/wp-content/uploads/2025/08/IMG_8199.jpeg
END:VEVENT
BEGIN:VEVENT
DTSTART;TZID=America/Chicago:20250829T160000
DTEND;TZID=America/Chicago:20250829T200000
DTSTAMP:20260421T162455
CREATED:20250823T014229Z
LAST-MODIFIED:20250823T014229Z
UID:10283-1756483200-1756497600@discoverwylie.com
SUMMARY:Food Truck Friday @ Glen Echo Brewing
DESCRIPTION:Food Truck Friday @ Glen Echo Brewing\nAugust 29\, 4-8pm
URL:https://discoverwylie.com/events/food-truck-friday-glen-echo-brewing/
LOCATION:Glen Echo Brewing\, 106 N Birmingham\, Wylie\, TX\, 75098\, United States
CATEGORIES:Beer,Food,Food Truck
ATTACH;FMTTYPE=image/png:https://discoverwylie.com/wp-content/uploads/2025/08/IMG_8223.png
END:VEVENT
BEGIN:VEVENT
DTSTART;TZID=America/Chicago:20250620T183000
DTEND;TZID=America/Chicago:20250620T203000
DTSTAMP:20260421T162455
CREATED:20250529T151743Z
LAST-MODIFIED:20250529T151743Z
UID:9952-1750444200-1750451400@discoverwylie.com
SUMMARY:Spring into Summer Wine Dinner
DESCRIPTION:A seasonal wine & dine experience with Chef Justin Box
URL:https://discoverwylie.com/events/spring-into-summer-wine-dinner/
LOCATION:TX
CATEGORIES:Food,Wine
ATTACH;FMTTYPE=application/pdf:https://discoverwylie.com/wp-content/uploads/2025/05/Spring-Into-Summer-Dinner-Flyer-5x7-1.pdf
END:VEVENT
BEGIN:VEVENT
DTSTART;TZID=America/Chicago:20250614T090000
DTEND;TZID=America/Chicago:20250614T140000
DTSTAMP:20260421T162455
CREATED:20250609T161951Z
LAST-MODIFIED:20250609T162539Z
UID:10028-1749891600-1749909600@discoverwylie.com
SUMMARY:Bold BBQ Brunch Buffet on Flag Day/Father's Day Weekend
DESCRIPTION:Join Us on June 14th (Sat.) for a Flag Day/Father’s Day Brunch\nStart your day with our BOLD Brunch from 9am – 2pm. \nWe will have smoked meat breakfast tacos\, sausage gravy and biscuits\, pancakes\, scrambled eggs\, breakfast potatoes\, deviled eggs\, bacon\, sausage\, quiche (variety)\, smoked turkey enchiladas\, smoked wings\, Texas hash\, watermelon\, coffee\, orange juice and more. \nWe have more delicious BOLD items planned\, so don’t miss it! \nAll you can eat. Dine-in Only.\nNo to-go boxes.\nAdult Buffet Price: $14\nAge 10 & under: $7\n$2 Beverages \nRSVP on our Facebook Event
URL:https://discoverwylie.com/events/bold-bbq-brunch-buffet-on-flag-day-fathers-day-weekend/
LOCATION:Bold BBQ\, 114 N Ballard Ave\, Wylie\, TX\, 75098\, United States
CATEGORIES:Food
ATTACH;FMTTYPE=image/png:https://discoverwylie.com/wp-content/uploads/2025/06/BBP-FB-event-flag-fathers-day-brunch.png
ORGANIZER;CN="Bold BBQ":MAILTO:info@boldbbqpit.com
END:VEVENT
BEGIN:VEVENT
DTSTART;TZID=America/Chicago:20250605T170000
DTEND;TZID=America/Chicago:20250605T210000
DTSTAMP:20260421T162455
CREATED:20250529T151423Z
LAST-MODIFIED:20250529T151423Z
UID:9949-1749142800-1749157200@discoverwylie.com
SUMMARY:Cousins Maine Lobster at Landon Winery Wylie
DESCRIPTION:Visit Cousins Maine Lobster at Landon Winery for dinner.
URL:https://discoverwylie.com/events/cousins-maine-lobster-at-landon-winery-wylie/
LOCATION:TX
CATEGORIES:Food,Wine
ATTACH;FMTTYPE=application/pdf:https://discoverwylie.com/wp-content/uploads/2025/05/Landon-WineryWylie-65-flyer.pdf
END:VEVENT
BEGIN:VEVENT
DTSTART;TZID=America/Chicago:20250523T190000
DTEND;TZID=America/Chicago:20250523T203000
DTSTAMP:20260421T162455
CREATED:20250318T144351Z
LAST-MODIFIED:20250318T144351Z
UID:9670-1748026800-1748032200@discoverwylie.com
SUMMARY:Build Your Own Butter Board at Landon Winery Wylie
DESCRIPTION:What is a butter board and how do you make one? We’ve partnered with Boards by B to pair your favorite Landon wines with this tasty\, mouth-watering treat AND when we’re finished\, you get to take home your wooden board to re-create your very own version! If you’re curious what a butter board even is\, how much work goes into making a butter board or whether it’s simply more fun to just say “butter board” than it is to actually make one\, “B” is here to answer all of your questions. \nUsing a base of compound butters and spreadable cheeses\, we’ll drop on a number of toppings or mix-ins including herbs\, nuts\, seeds\, fruit\, radishes\, honey\, jam or even bits of smoked salmon or diced\, cured meats — and serve it all up with toasted bread\, crackers or any such vessel to help deliver this fancied-up concoction to your face. \nA butter board isn’t complete without something fabulous to wash it down. You’ll taste your way through these savory and sweet bites with our selection of perfectly paired wines. Prepare to be wowed by the variety and depth of flavors. \nSeats are very limited so get your tickets now! $45 per person plus tax. \nIncludes 🍷 (5) 2 oz pairing pours of premium Landon wines\, 🧈 you’ll create your own Personal Butter Board with all the toppings\, 🧀 the Wooden Board to take home for your own charcuterie or butter board creation\, 👩‍🏫Guided Tasting by “B”\, our very own Charcuterie & Board Expert ; Wine Club Member Discounts apply. \n**This is a tasting event\, so if you’re hungry for more than “bites” feel free to add on a meat & cheese board or a flatbread with your ticket purchase.
URL:https://discoverwylie.com/events/build-your-own-butter-board-at-landon-winery-wylie/
LOCATION:Landon Winery\, 103 N. Ballard Ave\, Wylie\, TX\, 75098\, United States
CATEGORIES:Food,Wine
ATTACH;FMTTYPE=image/jpeg:https://discoverwylie.com/wp-content/uploads/2025/03/Picture4.jpg
END:VEVENT
BEGIN:VEVENT
DTSTART;TZID=America/Chicago:20250505T110000
DTEND;TZID=America/Chicago:20250505T130000
DTSTAMP:20260421T162455
CREATED:20190412T172106Z
LAST-MODIFIED:20241206T212656Z
UID:695-1746442800-1746450000@discoverwylie.com
SUMMARY:Taste of Wylie
DESCRIPTION:Each year\, the community gathers at the Taste of Wylie to sample a variety of foods from local restaurants and food trucks while supporting area food pantries. Every penny of the revenue generated at this event\, either through ticket sales or sponsorships\, goes directly to support Wylie Community Christian Care Center\, Amazing Grace\, 5 Loaves Food Pantry\, and Hope for the Cities.
URL:https://discoverwylie.com/events/taste-of-wylie/
LOCATION:TX
CATEGORIES:Food,Fundraiser
ATTACH;FMTTYPE=image/jpeg:https://discoverwylie.com/wp-content/uploads/2019/04/TOW-Logo-Orange-small.jpg
END:VEVENT
BEGIN:VEVENT
DTSTART;TZID=America/Chicago:20250503T120000
DTEND;TZID=America/Chicago:20250503T170000
DTSTAMP:20260421T162455
CREATED:20250318T144043Z
LAST-MODIFIED:20250318T144043Z
UID:9667-1746273600-1746291600@discoverwylie.com
SUMMARY:Cinco de Mayo Wine Walk hosted by Landon Winery Wylie
DESCRIPTION:¡Ay\, caramba! Indulge in a leisurely afternoon of wine 🍷 and Spring shopping 🎁 Snag your spot to attend the most entertaining way to wine and shop Historic Downtown Wylie! \nYou’ll enjoy premium Landon wines as you wine & walk your way through Historic Wylie’s charming boutiques. Special Cinco do Mayo Savings for sippers at each stop! \n🍷 $35 + tax: Experience 15 tastes of delicious wines with a souvenir wine glass and access to boutique discounts at each stop. Turn in your completed ticket at Landon Winery for your Bonus Pour and enjoy a complimentary Charcuterie Grazing Table. **Wine club member discounts apply \n🍷 Special Wine Discounts Stock up on your favorites now! Purchase your favorite wines at exclusive Wine Walk discounts to take home and enjoy\, or give them as gifts to your favorite friends and family members. \nGrab a partner or a group\, check-in at the winery for your souvenir glass and ticket passport\, and prepare to be enchanted by Historic Downtown Wylie!
URL:https://discoverwylie.com/events/cinco-de-mayo-wine-walk-hosted-by-landon-winery-wylie/
LOCATION:Landon Winery\, 103 N. Ballard Ave\, Wylie\, TX\, 75098\, United States
CATEGORIES:Food,Shop,Wine
ATTACH;FMTTYPE=image/jpeg:https://discoverwylie.com/wp-content/uploads/2025/03/Picture3.jpg
END:VEVENT
END:VCALENDAR