BEGIN:VCALENDAR
VERSION:2.0
PRODID:-//Discover Downtown Wylie - ECPv6.15.18//NONSGML v1.0//EN
CALSCALE:GREGORIAN
METHOD:PUBLISH
X-ORIGINAL-URL:https://discoverwylie.com
X-WR-CALDESC:Events for Discover Downtown Wylie
REFRESH-INTERVAL;VALUE=DURATION:PT1H
X-Robots-Tag:noindex
X-PUBLISHED-TTL:PT1H
BEGIN:VTIMEZONE
TZID:America/Chicago
BEGIN:DAYLIGHT
TZOFFSETFROM:-0600
TZOFFSETTO:-0500
TZNAME:CDT
DTSTART:20240310T080000
END:DAYLIGHT
BEGIN:STANDARD
TZOFFSETFROM:-0500
TZOFFSETTO:-0600
TZNAME:CST
DTSTART:20241103T070000
END:STANDARD
BEGIN:DAYLIGHT
TZOFFSETFROM:-0600
TZOFFSETTO:-0500
TZNAME:CDT
DTSTART:20250309T080000
END:DAYLIGHT
BEGIN:STANDARD
TZOFFSETFROM:-0500
TZOFFSETTO:-0600
TZNAME:CST
DTSTART:20251102T070000
END:STANDARD
BEGIN:DAYLIGHT
TZOFFSETFROM:-0600
TZOFFSETTO:-0500
TZNAME:CDT
DTSTART:20260308T080000
END:DAYLIGHT
BEGIN:STANDARD
TZOFFSETFROM:-0500
TZOFFSETTO:-0600
TZNAME:CST
DTSTART:20261101T070000
END:STANDARD
END:VTIMEZONE
BEGIN:VEVENT
DTSTART;TZID=America/Chicago:20250325T190000
DTEND;TZID=America/Chicago:20250325T210000
DTSTAMP:20260421T164719
CREATED:20250318T144949Z
LAST-MODIFIED:20250318T144949Z
UID:9673-1742929200-1742936400@discoverwylie.com
SUMMARY:That's Life! A Musical Journey with Chef Armstead at Landon Winery Wylie
DESCRIPTION:Spend the evening with Landon’s favorite Chef Armstead Boniface as he shares his story through music. Chef Armstead shares his roots\, from his childhood in Louisiana to his move to the Dallas area. He will delight you with as he recounts his first meeting with our own Bob Landon. Armstead has been a mainstay at Landon for almost 20 years and has been here through all of the changes and growth at Landon Winery. He’ll share his viewpoint and his journey through the years with all of you\, our Landon Family. \nThis event is 2 hours of music and entertainment; ticket price includes first two glasses of wine. Additional wine and food available during the event. \nTicket price $45 per person plus tax; wine club member discounts apply.
URL:https://discoverwylie.com/events/thats-life-a-musical-journey-with-chef-armstead-at-landon-winery-wylie/
LOCATION:Landon Winery\, 103 N. Ballard Ave\, Wylie\, TX\, 75098\, United States
CATEGORIES:Music,Wine
ATTACH;FMTTYPE=image/jpeg:https://discoverwylie.com/wp-content/uploads/2025/03/Picture5.jpg
END:VEVENT
BEGIN:VEVENT
DTSTART;TZID=America/Chicago:20250320T180000
DTEND;TZID=America/Chicago:20250320T200000
DTSTAMP:20260421T164719
CREATED:20250318T192936Z
LAST-MODIFIED:20250318T193033Z
UID:9677-1742493600-1742500800@discoverwylie.com
SUMMARY:Family Music Bingo at Bold BBQ
DESCRIPTION:Join us for a night of fun and games at Music Bingo night! Get ready to shout “Bingo!” and win some prizes.
URL:https://discoverwylie.com/events/family-music-bingo-at-bold-bbq/
LOCATION:Bold BBQ\, 114 N Ballard Ave\, Wylie\, TX\, 75098\, United States
CATEGORIES:Bingo,Music
ATTACH;FMTTYPE=application/pdf:https://discoverwylie.com/wp-content/uploads/2025/03/Bold-FAMILY-MUSIC-BINGO-Autosaved.pdf
ORGANIZER;CN="Bold BBQ":MAILTO:info@boldbbqpit.com
END:VEVENT
END:VCALENDAR