BEGIN:VCALENDAR
VERSION:2.0
PRODID:-//Discover Downtown Wylie - ECPv6.15.18//NONSGML v1.0//EN
CALSCALE:GREGORIAN
METHOD:PUBLISH
X-WR-CALNAME:Discover Downtown Wylie
X-ORIGINAL-URL:https://discoverwylie.com
X-WR-CALDESC:Events for Discover Downtown Wylie
REFRESH-INTERVAL;VALUE=DURATION:PT1H
X-Robots-Tag:noindex
X-PUBLISHED-TTL:PT1H
BEGIN:VTIMEZONE
TZID:America/Chicago
BEGIN:DAYLIGHT
TZOFFSETFROM:-0600
TZOFFSETTO:-0500
TZNAME:CDT
DTSTART:20250309T080000
END:DAYLIGHT
BEGIN:STANDARD
TZOFFSETFROM:-0500
TZOFFSETTO:-0600
TZNAME:CST
DTSTART:20251102T070000
END:STANDARD
BEGIN:DAYLIGHT
TZOFFSETFROM:-0600
TZOFFSETTO:-0500
TZNAME:CDT
DTSTART:20260308T080000
END:DAYLIGHT
BEGIN:STANDARD
TZOFFSETFROM:-0500
TZOFFSETTO:-0600
TZNAME:CST
DTSTART:20261101T070000
END:STANDARD
BEGIN:DAYLIGHT
TZOFFSETFROM:-0600
TZOFFSETTO:-0500
TZNAME:CDT
DTSTART:20270314T080000
END:DAYLIGHT
BEGIN:STANDARD
TZOFFSETFROM:-0500
TZOFFSETTO:-0600
TZNAME:CST
DTSTART:20271107T070000
END:STANDARD
END:VTIMEZONE
BEGIN:VEVENT
DTSTART;TZID=America/Chicago:20260328T100000
DTEND;TZID=America/Chicago:20260328T140000
DTSTAMP:20260421T193429
CREATED:20260318T181333Z
LAST-MODIFIED:20260318T181333Z
UID:11434-1774692000-1774706400@discoverwylie.com
SUMMARY:Hippity Hop is coming to Downtown Wylie
DESCRIPTION:Join us Saturday\, March 28 | 10 AM–2 PM for a fun-filled day hopping through local shops. Little hoppers can collect stamps\, enjoy egg-cellent surprises\, and celebrate spring with our amazing downtown businesses. \nGrab your baskets and hop on over for a day of family fun!
URL:https://discoverwylie.com/events/hippity-hop-is-coming-to-downtown-wylie/
LOCATION:Historic Downtown Wylie
CATEGORIES:Easter,Shop
ATTACH;FMTTYPE=image/jpeg:https://discoverwylie.com/wp-content/uploads/2026/03/IMG_9316.jpeg
END:VEVENT
END:VCALENDAR