BEGIN:VCALENDAR
VERSION:2.0
PRODID:-//Discover Downtown Wylie - ECPv6.15.18//NONSGML v1.0//EN
CALSCALE:GREGORIAN
METHOD:PUBLISH
X-ORIGINAL-URL:https://discoverwylie.com
X-WR-CALDESC:Events for Discover Downtown Wylie
REFRESH-INTERVAL;VALUE=DURATION:PT1H
X-Robots-Tag:noindex
X-PUBLISHED-TTL:PT1H
BEGIN:VTIMEZONE
TZID:America/Chicago
BEGIN:DAYLIGHT
TZOFFSETFROM:-0600
TZOFFSETTO:-0500
TZNAME:CDT
DTSTART:20250309T080000
END:DAYLIGHT
BEGIN:STANDARD
TZOFFSETFROM:-0500
TZOFFSETTO:-0600
TZNAME:CST
DTSTART:20251102T070000
END:STANDARD
BEGIN:DAYLIGHT
TZOFFSETFROM:-0600
TZOFFSETTO:-0500
TZNAME:CDT
DTSTART:20260308T080000
END:DAYLIGHT
BEGIN:STANDARD
TZOFFSETFROM:-0500
TZOFFSETTO:-0600
TZNAME:CST
DTSTART:20261101T070000
END:STANDARD
BEGIN:DAYLIGHT
TZOFFSETFROM:-0600
TZOFFSETTO:-0500
TZNAME:CDT
DTSTART:20270314T080000
END:DAYLIGHT
BEGIN:STANDARD
TZOFFSETFROM:-0500
TZOFFSETTO:-0600
TZNAME:CST
DTSTART:20271107T070000
END:STANDARD
END:VTIMEZONE
BEGIN:VEVENT
DTSTART;TZID=America/Chicago:20260201T120000
DTEND;TZID=America/Chicago:20260201T160000
DTSTAMP:20260421T185452
CREATED:20260114T151025Z
LAST-MODIFIED:20260114T151736Z
UID:11092-1769947200-1769961600@discoverwylie.com
SUMMARY:Sip\, Shop & Share the Love
DESCRIPTION:Valentines Vendor Fair featuring kids Valentines for Veterans craft station and local small businesses to shop from.
URL:https://discoverwylie.com/events/valentine-vendor-fair/
LOCATION:Proven Suites\, 105 W Jefferson St Ste 200\, Wylie\, TX\, 75098\, United States
ATTACH;FMTTYPE=image/jpeg:https://discoverwylie.com/wp-content/uploads/2026/01/IMG_6693.jpeg
END:VEVENT
BEGIN:VEVENT
DTSTART;TZID=America/Chicago:20260214T090000
DTEND;TZID=America/Chicago:20260214T110000
DTSTAMP:20260421T185452
CREATED:20260114T151345Z
LAST-MODIFIED:20260121T173638Z
UID:11095-1771059600-1771066800@discoverwylie.com
SUMMARY:Planner Pause
DESCRIPTION:Plan\, Swap & Connect – Bring your planners \n\nDestash table and swag prizes\nCraft fun and memory keeping\nFood\, drinks and good vibes\n\nHosted by Tamika Brunetti \nSpecial Guest\, Carrie Elle
URL:https://discoverwylie.com/events/planner-pause/
LOCATION:Proven Suites\, 105 W Jefferson St Ste 200\, Wylie\, TX\, 75098\, United States
ATTACH;FMTTYPE=image/png:https://discoverwylie.com/wp-content/uploads/2026/01/PlannerPause-2026.02.14-Carrie-Elle.png
END:VEVENT
BEGIN:VEVENT
DTSTART;TZID=America/Chicago:20260217T110000
DTEND;TZID=America/Chicago:20260217T170000
DTSTAMP:20260421T185452
CREATED:20260204T225956Z
LAST-MODIFIED:20260204T225956Z
UID:11237-1771326000-1771347600@discoverwylie.com
SUMMARY:Take-it make-it quilt block at Brown House
DESCRIPTION:Pick up a free take-it make-it quilt block and instructions at Brown House. Return the completed square for inclusion in the quilt made by Wylie residents\, which will be displayed upon completion. This event is ongoing! Pick up your quilt square while supplies last.
URL:https://discoverwylie.com/events/take-it-make-it-quilt-block-at-brown-house/
LOCATION:Welcome Center at Brown House\, 301 N Ballard Ave\, Wylie\, TX\, 75098\, United States
CATEGORIES:Arts and Crafts
ATTACH;FMTTYPE=image/png:https://discoverwylie.com/wp-content/uploads/2026/02/screenshot-1770245923015.png
END:VEVENT
END:VCALENDAR