BEGIN:VCALENDAR
VERSION:2.0
PRODID:-//Discover Downtown Wylie - ECPv6.15.18//NONSGML v1.0//EN
CALSCALE:GREGORIAN
METHOD:PUBLISH
X-ORIGINAL-URL:https://discoverwylie.com
X-WR-CALDESC:Events for Discover Downtown Wylie
REFRESH-INTERVAL;VALUE=DURATION:PT1H
X-Robots-Tag:noindex
X-PUBLISHED-TTL:PT1H
BEGIN:VTIMEZONE
TZID:America/Chicago
BEGIN:DAYLIGHT
TZOFFSETFROM:-0600
TZOFFSETTO:-0500
TZNAME:CDT
DTSTART:20240310T080000
END:DAYLIGHT
BEGIN:STANDARD
TZOFFSETFROM:-0500
TZOFFSETTO:-0600
TZNAME:CST
DTSTART:20241103T070000
END:STANDARD
BEGIN:DAYLIGHT
TZOFFSETFROM:-0600
TZOFFSETTO:-0500
TZNAME:CDT
DTSTART:20250309T080000
END:DAYLIGHT
BEGIN:STANDARD
TZOFFSETFROM:-0500
TZOFFSETTO:-0600
TZNAME:CST
DTSTART:20251102T070000
END:STANDARD
BEGIN:DAYLIGHT
TZOFFSETFROM:-0600
TZOFFSETTO:-0500
TZNAME:CDT
DTSTART:20260308T080000
END:DAYLIGHT
BEGIN:STANDARD
TZOFFSETFROM:-0500
TZOFFSETTO:-0600
TZNAME:CST
DTSTART:20261101T070000
END:STANDARD
END:VTIMEZONE
BEGIN:VEVENT
DTSTART;TZID=America/Chicago:20250412T110000
DTEND;TZID=America/Chicago:20250412T140000
DTSTAMP:20260422T183418
CREATED:20250304T231255Z
LAST-MODIFIED:20250304T231255Z
UID:9563-1744455600-1744466400@discoverwylie.com
SUMMARY:Meet the Easter Bunny
DESCRIPTION:We are egg~cited to have the Easter Bunny visit our shop. Hop on over to Juzt JAZ Boutique to meet the Easter Bunny and take pictures with him.\n Date: Saturday\, April 12th Time: 11am-2pm Info: Bring your own camera for the pics. We will have staff to help for family photos if needed. We will have some treats and sweets for all.
URL:https://discoverwylie.com/events/meet-the-easter-bunny/
LOCATION:Juzt JAZ Boutique\, 131 N Ballard Ave\, Wylie\, TX\, 75098\, United States
ATTACH;FMTTYPE=image/jpeg:https://discoverwylie.com/wp-content/uploads/2025/03/JAZ-Bunny.jpg
ORGANIZER;CN="Juzt JAZ Boutique":MAILTO:info@juztjazboutique.com
END:VEVENT
END:VCALENDAR