BEGIN:VCALENDAR
VERSION:2.0
PRODID:-//Discover Downtown Wylie - ECPv6.15.18//NONSGML v1.0//EN
CALSCALE:GREGORIAN
METHOD:PUBLISH
X-ORIGINAL-URL:https://discoverwylie.com
X-WR-CALDESC:Events for Discover Downtown Wylie
REFRESH-INTERVAL;VALUE=DURATION:PT1H
X-Robots-Tag:noindex
X-PUBLISHED-TTL:PT1H
BEGIN:VTIMEZONE
TZID:America/Chicago
BEGIN:DAYLIGHT
TZOFFSETFROM:-0600
TZOFFSETTO:-0500
TZNAME:CDT
DTSTART:20240310T080000
END:DAYLIGHT
BEGIN:STANDARD
TZOFFSETFROM:-0500
TZOFFSETTO:-0600
TZNAME:CST
DTSTART:20241103T070000
END:STANDARD
BEGIN:DAYLIGHT
TZOFFSETFROM:-0600
TZOFFSETTO:-0500
TZNAME:CDT
DTSTART:20250309T080000
END:DAYLIGHT
BEGIN:STANDARD
TZOFFSETFROM:-0500
TZOFFSETTO:-0600
TZNAME:CST
DTSTART:20251102T070000
END:STANDARD
BEGIN:DAYLIGHT
TZOFFSETFROM:-0600
TZOFFSETTO:-0500
TZNAME:CDT
DTSTART:20260308T080000
END:DAYLIGHT
BEGIN:STANDARD
TZOFFSETFROM:-0500
TZOFFSETTO:-0600
TZNAME:CST
DTSTART:20261101T070000
END:STANDARD
END:VTIMEZONE
BEGIN:VEVENT
DTSTART;TZID=America/Chicago:20251004T100000
DTEND;TZID=America/Chicago:20251004T190000
DTSTAMP:20260422T031107
CREATED:20250831T170240Z
LAST-MODIFIED:20250905T211816Z
UID:10359-1759572000-1759604400@discoverwylie.com
SUMMARY:Swifties Take Ballard
DESCRIPTION:Are you ready for it?  Ballard Ave is stepping into its Swiftie Era for one day! Join the merchants on Ballard Ave for Swifties Take Ballard — a celebration full of friendship bracelets\, photo ops\, themed treats\, shopping surprises\, and more. \n Ballard Ave\, Wylie\n Saturday\, October 4th\n Bonus points if you come dressed in your favorite Era and make memories that will never go out of style. \nThis event is free to attend and open to all ages — so bring your besties and let’s paint the town Swiftie! \nSee flyer for the merchants Eras lineup.
URL:https://discoverwylie.com/events/swifties-take-ballard/
LOCATION:Historic Downtown Wylie
ATTACH;FMTTYPE=image/png:https://discoverwylie.com/wp-content/uploads/2025/08/IMG_8489.png
END:VEVENT
BEGIN:VEVENT
DTSTART;TZID=America/Chicago:20251011T100000
DTEND;TZID=America/Chicago:20251011T150000
DTSTAMP:20260422T031107
CREATED:20250920T212045Z
LAST-MODIFIED:20250920T212045Z
UID:10550-1760176800-1760194800@discoverwylie.com
SUMMARY:Sweatshirt Bar
DESCRIPTION:Our Sweatshirt Bar is BACK for Fall!\nFeaturing a variety of Halloween and Fall patches! \nHow it Works?! \nPick your short sleeve\, long sleeve or sweatshirt style\nChoose from a variety patches\nMake it uniquely YOU!\nBring your friends\, and design your perfect fall staple \nOctober 11\, 2025 \n10am-3pm
URL:https://discoverwylie.com/events/sweatshirt-bar-2/
LOCATION:Ballard Boutique & Bakery\, 102 N Ballard Ave Ste C\, Wylie\, TX\, 75094\, United States
CATEGORIES:Holiday,Shop
ATTACH;FMTTYPE=image/png:https://discoverwylie.com/wp-content/uploads/2025/09/gift.png
END:VEVENT
END:VCALENDAR