BEGIN:VCALENDAR
VERSION:2.0
PRODID:-//Discover Downtown Wylie - ECPv6.15.18//NONSGML v1.0//EN
CALSCALE:GREGORIAN
METHOD:PUBLISH
X-WR-CALNAME:Discover Downtown Wylie
X-ORIGINAL-URL:https://discoverwylie.com
X-WR-CALDESC:Events for Discover Downtown Wylie
REFRESH-INTERVAL;VALUE=DURATION:PT1H
X-Robots-Tag:noindex
X-PUBLISHED-TTL:PT1H
BEGIN:VTIMEZONE
TZID:America/Chicago
BEGIN:DAYLIGHT
TZOFFSETFROM:-0600
TZOFFSETTO:-0500
TZNAME:CDT
DTSTART:20240310T080000
END:DAYLIGHT
BEGIN:STANDARD
TZOFFSETFROM:-0500
TZOFFSETTO:-0600
TZNAME:CST
DTSTART:20241103T070000
END:STANDARD
BEGIN:DAYLIGHT
TZOFFSETFROM:-0600
TZOFFSETTO:-0500
TZNAME:CDT
DTSTART:20250309T080000
END:DAYLIGHT
BEGIN:STANDARD
TZOFFSETFROM:-0500
TZOFFSETTO:-0600
TZNAME:CST
DTSTART:20251102T070000
END:STANDARD
BEGIN:DAYLIGHT
TZOFFSETFROM:-0600
TZOFFSETTO:-0500
TZNAME:CDT
DTSTART:20260308T080000
END:DAYLIGHT
BEGIN:STANDARD
TZOFFSETFROM:-0500
TZOFFSETTO:-0600
TZNAME:CST
DTSTART:20261101T070000
END:STANDARD
END:VTIMEZONE
BEGIN:VEVENT
DTSTART;TZID=America/Chicago:20251007T183000
DTEND;TZID=America/Chicago:20251007T200000
DTSTAMP:20260422T054141
CREATED:20250917T183614Z
LAST-MODIFIED:20250917T183614Z
UID:10525-1759861800-1759867200@discoverwylie.com
SUMMARY:Sip-n-Paint Event
DESCRIPTION:Come paint this spooky scene on a smoked glass!\nThis sip and paint event offers a relaxed yet elevated experience surrounded by Landon Winery’s old world decor and comfortable atmosphere. Order from their extensive curated selection of delicious\, award-winning wines\, charcuterie\, and small plate menu items to enjoy while you paint.\nYour ticket includes one seat in the event using premium art materials on quality glassware to create your interpretation of the beautiful\, simple-to-repeat design. Some basic elements are prepared in advance for you so that you will enjoy a more relaxed\, creative experience. Following the simple step-by-step guided instruction\, you are sure to create a piece that you will be proud to use and display\, or gift to someone you love. \nOctober 7\, 2025 \n6:30-8:00
URL:https://discoverwylie.com/events/sip-n-paint-event/
LOCATION:Landon Winery\, 103 N. Ballard Ave\, Wylie\, TX\, 75098\, United States
CATEGORIES:Arts and Crafts,Paint,Wine
ATTACH;FMTTYPE=image/jpeg:https://discoverwylie.com/wp-content/uploads/2025/09/Sip-n-Paint-Wylie.jpg
END:VEVENT
END:VCALENDAR