BEGIN:VCALENDAR
VERSION:2.0
PRODID:-//Discover Downtown Wylie - ECPv6.15.18//NONSGML v1.0//EN
CALSCALE:GREGORIAN
METHOD:PUBLISH
X-ORIGINAL-URL:https://discoverwylie.com
X-WR-CALDESC:Events for Discover Downtown Wylie
REFRESH-INTERVAL;VALUE=DURATION:PT1H
X-Robots-Tag:noindex
X-PUBLISHED-TTL:PT1H
BEGIN:VTIMEZONE
TZID:America/Chicago
BEGIN:DAYLIGHT
TZOFFSETFROM:-0600
TZOFFSETTO:-0500
TZNAME:CDT
DTSTART:20240310T080000
END:DAYLIGHT
BEGIN:STANDARD
TZOFFSETFROM:-0500
TZOFFSETTO:-0600
TZNAME:CST
DTSTART:20241103T070000
END:STANDARD
BEGIN:DAYLIGHT
TZOFFSETFROM:-0600
TZOFFSETTO:-0500
TZNAME:CDT
DTSTART:20250309T080000
END:DAYLIGHT
BEGIN:STANDARD
TZOFFSETFROM:-0500
TZOFFSETTO:-0600
TZNAME:CST
DTSTART:20251102T070000
END:STANDARD
BEGIN:DAYLIGHT
TZOFFSETFROM:-0600
TZOFFSETTO:-0500
TZNAME:CDT
DTSTART:20260308T080000
END:DAYLIGHT
BEGIN:STANDARD
TZOFFSETFROM:-0500
TZOFFSETTO:-0600
TZNAME:CST
DTSTART:20261101T070000
END:STANDARD
END:VTIMEZONE
BEGIN:VEVENT
DTSTART;TZID=America/Chicago:20251119T100000
DTEND;TZID=America/Chicago:20251210T180000
DTSTAMP:20260422T001525
CREATED:20251015T225935Z
LAST-MODIFIED:20251015T225935Z
UID:10747-1763546400-1765389600@discoverwylie.com
SUMMARY:Historic Downtown Wylie Holiday Shopping Spree
DESCRIPTION:Shop\, Dine and Celebrate the holidays! Stop by participating merchants and enter to win the Holiday Shopping Spree. \nFour lucky winners will receive $500 each in Downtown Wylie gift certificates and gifts
URL:https://discoverwylie.com/events/historic-downtown-wylie-holiday-shopping-spree/
LOCATION:Historic Downtown Wylie
CATEGORIES:Gifts,Shopping Spree
ATTACH;FMTTYPE=application/pdf:https://discoverwylie.com/wp-content/uploads/2025/10/In-and-Around-Full-Page-Spree-Nov-2025-copy.pdf
END:VEVENT
BEGIN:VEVENT
DTSTART;TZID=America/Chicago:20251206T090000
DTEND;TZID=America/Chicago:20251206T140000
DTSTAMP:20260422T001525
CREATED:20251104T214914Z
LAST-MODIFIED:20251104T215858Z
UID:10852-1765011600-1765029600@discoverwylie.com
SUMMARY:Holiday Brunch at Bold BBQ
DESCRIPTION:
URL:https://discoverwylie.com/events/holiday-brunch-at-bold-bbq/
LOCATION:Bold BBQ\, 114 N Ballard Ave\, Wylie\, TX\, 75098\, United States
CATEGORIES:Food,Holiday
ATTACH;FMTTYPE=image/png:https://discoverwylie.com/wp-content/uploads/2025/11/1200-BBP-event-holiday-brunch-980x551-1.png
END:VEVENT
BEGIN:VEVENT
DTSTART;TZID=America/Chicago:20251206T090000
DTEND;TZID=America/Chicago:20251206T160000
DTSTAMP:20260422T001525
CREATED:20251120T205324Z
LAST-MODIFIED:20251120T205324Z
UID:10929-1765011600-1765036800@discoverwylie.com
SUMMARY:Victorian Christmas Market at the Brown House
DESCRIPTION:Be a part of the unique European-style Christmas Market event at the Welcome Center at Brown House on the lawn. The City of Wylie and Wylie Parks and Recreation host this event in conjunction with the Wylie Arts Festival.\nShop holiday vendors\, enjoy live music\, demonstrations\, and more!\nFree exhibits\, home tour\, complimentary hot cocoa\, and selfies with Victorian Santa.\nNo tickets required!
URL:https://discoverwylie.com/events/victorian-christmas-market-at-the-brown-house/
LOCATION:Welcome Center at Brown House\, 301 N Ballard Ave\, Wylie\, TX\, 75098\, United States
CATEGORIES:Arts and Crafts,Christmas,Holiday,Santa,Shop
ATTACH;FMTTYPE=image/png:https://discoverwylie.com/wp-content/uploads/2025/11/VCM-LOGO-FINAL@288x.png
END:VEVENT
BEGIN:VEVENT
DTSTART;TZID=America/Chicago:20251206T120000
DTEND;TZID=America/Chicago:20251206T140000
DTSTAMP:20260422T001525
CREATED:20251104T214739Z
LAST-MODIFIED:20251104T215819Z
UID:10850-1765022400-1765029600@discoverwylie.com
SUMMARY:Live Christmas Music
DESCRIPTION:Live music at Bold BBQ
URL:https://discoverwylie.com/events/live-christmas-music/
LOCATION:Bold BBQ\, 114 N Ballard Ave\, Wylie\, TX\, 75098\, United States
CATEGORIES:Food,Music
ATTACH;FMTTYPE=image/jpeg:https://discoverwylie.com/wp-content/uploads/2025/11/BBP-FB-Event-christmas-music-980x513-1.jpg
END:VEVENT
END:VCALENDAR