BEGIN:VCALENDAR
VERSION:2.0
PRODID:-//Discover Downtown Wylie - ECPv6.15.18//NONSGML v1.0//EN
CALSCALE:GREGORIAN
METHOD:PUBLISH
X-WR-CALNAME:Discover Downtown Wylie
X-ORIGINAL-URL:https://discoverwylie.com
X-WR-CALDESC:Events for Discover Downtown Wylie
REFRESH-INTERVAL;VALUE=DURATION:PT1H
X-Robots-Tag:noindex
X-PUBLISHED-TTL:PT1H
BEGIN:VTIMEZONE
TZID:America/Chicago
BEGIN:DAYLIGHT
TZOFFSETFROM:-0600
TZOFFSETTO:-0500
TZNAME:CDT
DTSTART:20250309T080000
END:DAYLIGHT
BEGIN:STANDARD
TZOFFSETFROM:-0500
TZOFFSETTO:-0600
TZNAME:CST
DTSTART:20251102T070000
END:STANDARD
BEGIN:DAYLIGHT
TZOFFSETFROM:-0600
TZOFFSETTO:-0500
TZNAME:CDT
DTSTART:20260308T080000
END:DAYLIGHT
BEGIN:STANDARD
TZOFFSETFROM:-0500
TZOFFSETTO:-0600
TZNAME:CST
DTSTART:20261101T070000
END:STANDARD
BEGIN:DAYLIGHT
TZOFFSETFROM:-0600
TZOFFSETTO:-0500
TZNAME:CDT
DTSTART:20270314T080000
END:DAYLIGHT
BEGIN:STANDARD
TZOFFSETFROM:-0500
TZOFFSETTO:-0600
TZNAME:CST
DTSTART:20271107T070000
END:STANDARD
END:VTIMEZONE
BEGIN:VEVENT
DTSTART;TZID=America/Chicago:20260503T130000
DTEND;TZID=America/Chicago:20260503T160000
DTSTAMP:20260421T143939
CREATED:20190409T164212Z
LAST-MODIFIED:20260417T175342Z
UID:691-1777813200-1777824000@discoverwylie.com
SUMMARY:Pedal Car Race
DESCRIPTION:Pedal Car Race\, in Downtown Wylie TX\n The 20th Annual 500 Pedal Car Race\, benefiting the Wylie Area Special Olympics program. Children race old time pedal cars down our “main street” Ballard Ave. Winners receive trophies in two age brackets. Parents bring your children and their friends. It’s fun for a great cause! It’s a fun memory our children will have for a lifetime! Presented by the Wylie Downtown Merchants Association and Ballard Street Cafe. \nAges: 2-5 years\nAges 2-3 in first race bracket\nAges 4-5 in second race bracket\n \nTime: 1p – 4p\nRegistration is at 1p for ages 2-3. 2p for ages 4-5. Races start at 2p.\n \nWhere: 100 N Ballard Ave\, Downtown Wylie TX. In front of Ballard Street Cafe.\n \nRegistration: $15\nhttps://www.eventbrite.com/e/2026-wylie-500-pedal-car-race-tickets-1982197437896?gclsrc=aw.ds&aff=ebmkmxperformance&gad_source=1&gad_campaignid=23289302302\nIncludes a T-shirt.\n  \nPresented by the Wylie Downtown Merchants Association and City of Wylie.\nThank you to our Presenting Sponsor\, Community Wealth Advisors\nand\nTitle Sponsor\, Ballard Street Cafe.\n\nCommunity Wealth Advisors of Raymond James\nBallard Street Cafe\nThe Wylie Downtown Merchants Association\nCity of Wylie
URL:https://discoverwylie.com/events/pedal-car-race/
LOCATION:Downtown Wylie\, 100 N Ballard Ave\, Wylie\, TX\, 75098\, United States
ATTACH;FMTTYPE=image/png:https://discoverwylie.com/wp-content/uploads/2025/12/Pedal-Car-2026-Facebook-Event.png
END:VEVENT
END:VCALENDAR