BEGIN:VCALENDAR
VERSION:2.0
PRODID:-//Discover Downtown Wylie - ECPv6.15.18//NONSGML v1.0//EN
CALSCALE:GREGORIAN
METHOD:PUBLISH
X-ORIGINAL-URL:https://discoverwylie.com
X-WR-CALDESC:Events for Discover Downtown Wylie
REFRESH-INTERVAL;VALUE=DURATION:PT1H
X-Robots-Tag:noindex
X-PUBLISHED-TTL:PT1H
BEGIN:VTIMEZONE
TZID:America/Chicago
BEGIN:DAYLIGHT
TZOFFSETFROM:-0600
TZOFFSETTO:-0500
TZNAME:CDT
DTSTART:20240310T080000
END:DAYLIGHT
BEGIN:STANDARD
TZOFFSETFROM:-0500
TZOFFSETTO:-0600
TZNAME:CST
DTSTART:20241103T070000
END:STANDARD
BEGIN:DAYLIGHT
TZOFFSETFROM:-0600
TZOFFSETTO:-0500
TZNAME:CDT
DTSTART:20250309T080000
END:DAYLIGHT
BEGIN:STANDARD
TZOFFSETFROM:-0500
TZOFFSETTO:-0600
TZNAME:CST
DTSTART:20251102T070000
END:STANDARD
BEGIN:DAYLIGHT
TZOFFSETFROM:-0600
TZOFFSETTO:-0500
TZNAME:CDT
DTSTART:20260308T080000
END:DAYLIGHT
BEGIN:STANDARD
TZOFFSETFROM:-0500
TZOFFSETTO:-0600
TZNAME:CST
DTSTART:20261101T070000
END:STANDARD
END:VTIMEZONE
BEGIN:VEVENT
DTSTART;TZID=America/Chicago:20250214T100000
DTEND;TZID=America/Chicago:20250214T170000
DTSTAMP:20260422T203328
CREATED:20250203T151015Z
LAST-MODIFIED:20250203T151015Z
UID:9310-1739527200-1739552400@discoverwylie.com
SUMMARY:Valentine's Day BOGO Event
DESCRIPTION:Buy one hat and get the 2nd hat for 50% off (equal or lesser value) \nServing sparkling wine. \nSpots are limited!
URL:https://discoverwylie.com/events/valentines-day-bogo-event/
LOCATION:Turquoise Feather Hat Co\, 201 N Ballard Ave Ste 300\, Wylie\, TX\, 75098\, United States
ATTACH;FMTTYPE=image/jpeg:https://discoverwylie.com/wp-content/uploads/2025/02/TF-Valentines-Day.jpg
END:VEVENT
BEGIN:VEVENT
DTSTART;TZID=America/Chicago:20250214T190000
DTEND;TZID=America/Chicago:20250214T210000
DTSTAMP:20260422T203328
CREATED:20250123T192151Z
LAST-MODIFIED:20250123T192222Z
UID:9213-1739559600-1739566800@discoverwylie.com
SUMMARY:RedParty Valentine's Wine Dinner
DESCRIPTION:Things are heating up!🔥Experience an enchanting and exciting evening at our exclusive RedParty Wine Dinner. \nShow the love by wearing RED! Bring your partner\, your bestie\, your gal pals\, your love ❤️ Sit back\, relax\, and let us woo you with our sumptuous RedParty menu created by Chef Michael Mantilla. Chef has curated an exquisite menu that is sure to tease and please your taste buds. Each course will be served with the perfectly paired Landon wines selected by Bob Landon and Winemaker Jason Dodson. \nOne seating only. Four carefully curated courses\, each one perfectly paired with a premium Landon wine. 101 N. Ballard Avenue / Landon Winery Wylie \nSeating is very limited; $99 plus tax & gratuity per person; wine club member price $79 plus tax & gratuity per person. This is a very limited event so get your tickets now. \nWelcome | Sparkling served on arrival; seating begins at 6:30 pm Dinner | Served with Love 7 pm Flowers🌹Chocolates🩷Romance❤️‍🔥Wine🍾Love💋 If you are a duo you will be seated with others\, so please plan accordingly \nMenu \n1/ scratch made creamy blue crab dip with olive oil toasted crostinis \n2/ mixed green salad with fresh fruit and feta topped with balsamic vinaigrette \n3/ herb crusted stuffed garlic prime rib paired with seasoned roasted rosemary potatoes and seasonal vegetables \n4/ cheesecake topped with fresh strawberries & vanilla bean creme fresh
URL:https://discoverwylie.com/events/redparty-valentines-wine-dinner/
LOCATION:Landon Winery\, 103 N. Ballard Ave\, Wylie\, TX\, 75098\, United States
CATEGORIES:Wine
ATTACH;FMTTYPE=image/jpeg:https://discoverwylie.com/wp-content/uploads/2025/01/Landon-Valentines-Dinner.jpg
END:VEVENT
END:VCALENDAR