BEGIN:VCALENDAR
VERSION:2.0
PRODID:-//Discover Downtown Wylie - ECPv6.15.18//NONSGML v1.0//EN
CALSCALE:GREGORIAN
METHOD:PUBLISH
X-WR-CALNAME:Discover Downtown Wylie
X-ORIGINAL-URL:https://discoverwylie.com
X-WR-CALDESC:Events for Discover Downtown Wylie
REFRESH-INTERVAL;VALUE=DURATION:PT1H
X-Robots-Tag:noindex
X-PUBLISHED-TTL:PT1H
BEGIN:VTIMEZONE
TZID:America/Chicago
BEGIN:DAYLIGHT
TZOFFSETFROM:-0600
TZOFFSETTO:-0500
TZNAME:CDT
DTSTART:20250309T080000
END:DAYLIGHT
BEGIN:STANDARD
TZOFFSETFROM:-0500
TZOFFSETTO:-0600
TZNAME:CST
DTSTART:20251102T070000
END:STANDARD
BEGIN:DAYLIGHT
TZOFFSETFROM:-0600
TZOFFSETTO:-0500
TZNAME:CDT
DTSTART:20260308T080000
END:DAYLIGHT
BEGIN:STANDARD
TZOFFSETFROM:-0500
TZOFFSETTO:-0600
TZNAME:CST
DTSTART:20261101T070000
END:STANDARD
BEGIN:DAYLIGHT
TZOFFSETFROM:-0600
TZOFFSETTO:-0500
TZNAME:CDT
DTSTART:20270314T080000
END:DAYLIGHT
BEGIN:STANDARD
TZOFFSETFROM:-0500
TZOFFSETTO:-0600
TZNAME:CST
DTSTART:20271107T070000
END:STANDARD
END:VTIMEZONE
BEGIN:VEVENT
DTSTART;TZID=America/Chicago:20260423T180000
DTEND;TZID=America/Chicago:20260423T200000
DTSTAMP:20260421T131256
CREATED:20260324T153549Z
LAST-MODIFIED:20260324T153607Z
UID:11451-1776967200-1776974400@discoverwylie.com
SUMMARY:The Ballard Whodunnit
DESCRIPTION:Join us for Whodunnit on Ballard night at Shoemaker & Hardt featuring tea flights\, parlor tarot readings\, an interactive mystery to solve\, and a tea pop-up with The Sage Hippie. Follow the clues\, question everything\, and see if you can uncover the truth before the night is over.
URL:https://discoverwylie.com/events/the-ballard-whodunnit/
LOCATION:Shoemaker & Hardt\, 105 N Ballard Ave\, Wylie\, TX\, 75098\, United States
CATEGORIES:Coffee,Mystery,Tea
ATTACH;FMTTYPE=image/jpeg:https://discoverwylie.com/wp-content/uploads/2026/03/The-Ballard-Whodunnit-1.jpg
END:VEVENT
BEGIN:VEVENT
DTSTART;TZID=America/Chicago:20260425T140000
DTEND;TZID=America/Chicago:20260425T180000
DTSTAMP:20260421T131256
CREATED:20260218T193131Z
LAST-MODIFIED:20260218T193131Z
UID:11295-1777125600-1777140000@discoverwylie.com
SUMMARY:Uncorked Artisan Market
DESCRIPTION:Join us for an afternoon of wine\, shopping\, and local creativity at the Uncorked Artisan Market! Sip your favorite Landon wines while browsing a curated selection of goods handcrafted by local bakers\, crafters\, and artists.
URL:https://discoverwylie.com/events/uncorked-artisan-market/
LOCATION:Landon Winery\, 103 N. Ballard Ave\, Wylie\, TX\, 75098\, United States
CATEGORIES:Vendors,Wine
ATTACH;FMTTYPE=image/jpeg:https://discoverwylie.com/wp-content/uploads/2026/02/Uncorked-wylie.jpg
END:VEVENT
BEGIN:VEVENT
DTSTART;TZID=America/Chicago:20260428T180000
DTEND;TZID=America/Chicago:20260428T210000
DTSTAMP:20260421T131256
CREATED:20260415T174737Z
LAST-MODIFIED:20260415T174737Z
UID:11538-1777399200-1777410000@discoverwylie.com
SUMMARY:Sip Savor & Create Workshop
DESCRIPTION:Grab your favorite bottle and get ready for a night of creativity and indulgence! In this hands-on workshop\, you’ll design and customize your own wine or charcuterie-inspired project—perfect for hosting\, gifting\, or elevating your next girls’ night in. \nFrom cheese boards to serving trays with playful wine sayings\, you’ll choose your style\, stain\, and design to create a piece that’s as tasteful as your favorite pour.
URL:https://discoverwylie.com/events/sip-savor-create-workshop/
LOCATION:Landon Winery\, 103 N. Ballard Ave\, Wylie\, TX\, 75098\, United States
CATEGORIES:Arts and Crafts,Wine
ATTACH;FMTTYPE=image/jpeg:https://discoverwylie.com/wp-content/uploads/2026/04/Wood-Workshop.jpg
END:VEVENT
BEGIN:VEVENT
DTSTART;TZID=America/Chicago:20260501T100000
DTEND;TZID=America/Chicago:20260601T180000
DTSTAMP:20260421T131256
CREATED:20260415T174147Z
LAST-MODIFIED:20260415T174847Z
UID:11535-1777629600-1780336800@discoverwylie.com
SUMMARY:The Ballard Scavenger Hunt
DESCRIPTION:The hunt is on this May in Downtown Ballard \nGrab your scavenger hunt at Shoemaker & Hardt and set off on a fun\, family-friendly adventure through local shops. Follow the clues\, find all 12 stops\, and piece together the hidden message along the way. \nComplete the hunt and return your sheet to win a prize!
URL:https://discoverwylie.com/events/the-ballard-scavenger-hunt/
LOCATION:Shoemaker & Hardt\, 105 N Ballard Ave\, Wylie\, TX\, 75098\, United States
ATTACH;FMTTYPE=application/pdf:https://discoverwylie.com/wp-content/uploads/2026/04/Explore-Ballard-Discover-the-clues-Un-lnlock-the-message-5.pdf
END:VEVENT
BEGIN:VEVENT
DTSTART;TZID=America/Chicago:20260501T160000
DTEND;TZID=America/Chicago:20260501T220000
DTSTAMP:20260421T131256
CREATED:20260224T154828Z
LAST-MODIFIED:20260224T155211Z
UID:11329-1777651200-1777672800@discoverwylie.com
SUMMARY:Maifest at Glen Echo Brewing
DESCRIPTION:Join us as we celebrate German Maifest with craft beer\, German food\, a live band\, Saturday\, and our giant Maibaum! A mystery\, new beer will be unveiled!
URL:https://discoverwylie.com/events/maifest-at-glen-echo-brewing/
LOCATION:Glen Echo Brewing\, 106 N Birmingham\, Wylie\, TX\, 75098\, United States
CATEGORIES:Beer
ATTACH;FMTTYPE=image/png:https://discoverwylie.com/wp-content/uploads/2026/02/IMG_0113.png
END:VEVENT
BEGIN:VEVENT
DTSTART;TZID=America/Chicago:20260502T100000
DTEND;TZID=America/Chicago:20260502T110000
DTSTAMP:20260421T131256
CREATED:20260326T135214Z
LAST-MODIFIED:20260326T135214Z
UID:11476-1777716000-1777719600@discoverwylie.com
SUMMARY:Yoga in the Park
DESCRIPTION:We’re so excited to partner with Wylie Parks & Rec and The Brown House to bring this back to the community. \nYoga in the Park\nFirst Saturday of the month April to October @ 10AM\nThe Lawn at The Brown House\nFREE \nBring your mat\, water\, and anything you might want for comfort (a towel or blanket under the knees is always a good idea).
URL:https://discoverwylie.com/events/yoga-in-the-park-3/
LOCATION:Welcome Center at Brown House\, 301 N Ballard Ave\, Wylie\, TX\, 75098\, United States
CATEGORIES:Park,Yoga
ATTACH;FMTTYPE=image/png:https://discoverwylie.com/wp-content/uploads/2026/03/Monday-April-6th-@-7pm-1.png
END:VEVENT
BEGIN:VEVENT
DTSTART;TZID=America/Chicago:20260502T120000
DTEND;TZID=America/Chicago:20260502T170000
DTSTAMP:20260421T131256
CREATED:20260326T134549Z
LAST-MODIFIED:20260411T195019Z
UID:11473-1777723200-1777741200@discoverwylie.com
SUMMARY:Cinco de Drinko Sip & Stroll
DESCRIPTION:Wander through Wylie as you enjoy a curated selection of Landon wine\, beer\, and spirits\, paired with vibrant local stops\, exclusive sipper specials at each stop\, and lively Cinco de Mayo energy. From refreshing sips to delicious bites and great company\, this is your perfect excuse to gather your friends and make a day of it.
URL:https://discoverwylie.com/events/cinco-de-drinko-sip-stroll/
LOCATION:Historic Downtown Wylie
CATEGORIES:Cinco de Mayo,Sip & Stroll,Sip and Shop,Wine Walk
ATTACH;FMTTYPE=image/jpeg:https://discoverwylie.com/wp-content/uploads/2026/03/Sip-amd-Stroll-5-26.jpg
END:VEVENT
BEGIN:VEVENT
DTSTART;TZID=America/Chicago:20260502T120000
DTEND;TZID=America/Chicago:20260502T210000
DTSTAMP:20260421T131257
CREATED:20260324T153839Z
LAST-MODIFIED:20260324T153839Z
UID:11454-1777723200-1777755600@discoverwylie.com
SUMMARY:Wine Down with Lobster
DESCRIPTION:Wine down with lobster at Landon Winery – Wylie!\nWhat’s on the menu?\n• Maine\, Garlic\, & Connecticut Lobster Rolls\n• Lobster Tacos & Quesadillas\n• Lobster Tots and Lobster Tails\n• Lobster Grilled Cheese\n• Creamy Lobster Bisque or Clam Chowder\n• Whoopie Pies & more!\nGrab a glass (or bottle!) from Landon’s amazing wine selection and pair it with your favorite lobster dishes — it’s the perfect match!
URL:https://discoverwylie.com/events/wine-down-with-lobster/
LOCATION:Landon Winery\, 103 N. Ballard Ave\, Wylie\, TX\, 75098\, United States
CATEGORIES:Lobster,Wine
ATTACH;FMTTYPE=image/jpeg:https://discoverwylie.com/wp-content/uploads/2026/03/Lobster-Wylie.jpg
END:VEVENT
BEGIN:VEVENT
DTSTART;TZID=America/Chicago:20260502T120000
DTEND;TZID=America/Chicago:20260502T220000
DTSTAMP:20260421T131257
CREATED:20260224T155012Z
LAST-MODIFIED:20260224T155012Z
UID:11332-1777723200-1777759200@discoverwylie.com
SUMMARY:Maifest at Glen Echo Brewing
DESCRIPTION:Join us as we celebrate German Maifest with craft beer\, German food\, a live band\, Saturday\, and our giant Maibaum! A mystery\, new beer will be unveiled!
URL:https://discoverwylie.com/events/maifest-at-glen-echo-brewing-2/
LOCATION:Glen Echo Brewing\, 106 N Birmingham\, Wylie\, TX\, 75098\, United States
CATEGORIES:Beer
ATTACH;FMTTYPE=image/png:https://discoverwylie.com/wp-content/uploads/2026/02/IMG_0113.png
END:VEVENT
BEGIN:VEVENT
DTSTART;TZID=America/Chicago:20260503T120000
DTEND;TZID=America/Chicago:20260503T180000
DTSTAMP:20260421T131257
CREATED:20260224T155108Z
LAST-MODIFIED:20260224T155108Z
UID:11334-1777809600-1777831200@discoverwylie.com
SUMMARY:Maifest at Glen Echo Brewing
DESCRIPTION:Join us as we celebrate German Maifest with craft beer\, German food\, a live band\, Saturday\, and our giant Maibaum! A mystery\, new beer will be unveiled!
URL:https://discoverwylie.com/events/maifest-at-glen-echo-brewing-3/
LOCATION:Glen Echo Brewing\, 106 N Birmingham\, Wylie\, TX\, 75098\, United States
CATEGORIES:Beer
ATTACH;FMTTYPE=image/png:https://discoverwylie.com/wp-content/uploads/2026/02/IMG_0113.png
END:VEVENT
BEGIN:VEVENT
DTSTART;TZID=America/Chicago:20260503T130000
DTEND;TZID=America/Chicago:20260503T160000
DTSTAMP:20260421T131257
CREATED:20260415T190601Z
LAST-MODIFIED:20260415T190601Z
UID:11544-1777813200-1777824000@discoverwylie.com
SUMMARY:Raceway Face Painting
DESCRIPTION:Are you coming to the annual Wylie 500 Pedal Car Race?Stop by Juzt JAZ Boutique and get a cool face painting and standout while you race 500 inches down Ballard.
URL:https://discoverwylie.com/events/raceway-face-painting-2/
LOCATION:Juzt JAZ Boutique\, 131 N Ballard Ave\, Wylie\, TX\, 75098\, United States
CATEGORIES:Face Painting
ATTACH;FMTTYPE=image/jpeg:https://discoverwylie.com/wp-content/uploads/2026/04/661935483_1498420405627333_5289864549902703949_n.jpg
END:VEVENT
BEGIN:VEVENT
DTSTART;TZID=America/Chicago:20260504T110000
DTEND;TZID=America/Chicago:20260504T130000
DTSTAMP:20260421T131257
CREATED:20260109T002254Z
LAST-MODIFIED:20260312T210101Z
UID:11069-1777892400-1777899600@discoverwylie.com
SUMMARY:Taste of Wylie: Eat well. Do good.
DESCRIPTION:Save the date for Monday\, May 4\, 2026 — one of Wylie’s most delicious community traditions! Tickets go on sale March 2\, and if last year taught us anything… don’t wait. This event sold out!\nCome hungry and enjoy samples from 40+ local restaurants and food trucks\, all while supporting a great cause. Every bite helps our neighbors — 100% of ticket sales\, donations\, and sponsorships benefit local food pantries\, including Wylie Community Christian Care Center\, Amazing Grace\, Five Loaves Food Pantry\, and Hope for the Cities. \nEach year the community gathers at the Taste of Wylie to sample a variety of foods from local restaurants and food trucks while supporting area food pantries. Every penny of the revenue generated at this event\, either through ticket sales or sponsorships\, goes directly to support Wylie Community Christian Care Center\, Amazing Grace Food Pantry\, 5 Loaves Food Pantry\, and Hope for the Cities. \nThis event is held on Monday. Since it is a charity event\, our generous local restaurants donate their time\, employees\, and food on their least busy day. Join us in raising much-needed funds to assist struggling families in our community. Great food. Great cause. Great community. We’ll see you at Taste of Wylie! \nTickets on sale March 2\n$20 Adults\n$15 Seniors (60+)\n$12 Children (ages 6–12)\nFree for children 5 & under
URL:https://discoverwylie.com/events/taste-of-wylie-2/
LOCATION:Olde City Park\, 112 S Ballard Ave\, Wylie\, TX\, 75098\, United States
CATEGORIES:Charity,Food
ATTACH;FMTTYPE=image/png:https://discoverwylie.com/wp-content/uploads/2026/01/ENews-Taste-of-Wylie-2026-Tickets-on-Sale.png
END:VEVENT
BEGIN:VEVENT
DTSTART;TZID=America/Chicago:20260508T183000
DTEND;TZID=America/Chicago:20260508T200000
DTSTAMP:20260421T131257
CREATED:20260415T175226Z
LAST-MODIFIED:20260415T175226Z
UID:11541-1778265000-1778270400@discoverwylie.com
SUMMARY:True Crime & Wine
DESCRIPTION:Join John Matthews\, owner of Cassaro Winery\, and highly decorated 40-year law enforcement veteran\, for a behind-the-scenes look and firsthand account of his capture of Dallas’ most notorious serial killer- the Eyeball Killer. Learn about Oak Cliff in the 1980s and 90s\, the investigation\, the arrest and the unusual evidence that brought down a serial killer and ended his reign of terror.\nPrice includes one glass of wine. Additional food\, and wine by the glass or bottle are available during the event.
URL:https://discoverwylie.com/events/true-crime-wine/
LOCATION:Landon Winery\, 103 N. Ballard Ave\, Wylie\, TX\, 75098\, United States
CATEGORIES:Wine
ATTACH;FMTTYPE=image/jpeg:https://discoverwylie.com/wp-content/uploads/2026/04/True-Crime-and-Wine.jpg
END:VEVENT
BEGIN:VEVENT
DTSTART;TZID=America/Chicago:20260509T183000
DTEND;TZID=America/Chicago:20260509T203000
DTSTAMP:20260421T131257
CREATED:20260330T181811Z
LAST-MODIFIED:20260330T181811Z
UID:11500-1778351400-1778358600@discoverwylie.com
SUMMARY:Line Dancing
DESCRIPTION:Line-Dancing Class with instructor Diane Barriere\, Free! Bring your dancing boots and grab some friends for a fun night of dancing on the patio. Try our brewed-on-site beers and seltzers along with wood-fired pizza available from Pizza Di Vaio. This is the perfect date night! (Will be inside in event of rain).
URL:https://discoverwylie.com/events/line-dancing-3/
LOCATION:Glen Echo Brewing\, 106 N Birmingham\, Wylie\, TX\, 75098\, United States
CATEGORIES:Beer,Dance,Food
ATTACH;FMTTYPE=image/png:https://discoverwylie.com/wp-content/uploads/2026/03/IMG_0652.png
END:VEVENT
BEGIN:VEVENT
DTSTART;TZID=America/Chicago:20260516T130000
DTEND;TZID=America/Chicago:20260516T170000
DTSTAMP:20260421T131257
CREATED:20260304T184823Z
LAST-MODIFIED:20260304T184823Z
UID:11389-1778936400-1778950800@discoverwylie.com
SUMMARY:Shoemaker & Hardt Book Fair
DESCRIPTION:Join Shoemaker & Hardt for our Book Fair on Saturday\, May 16th from 1–5 PM. Enjoy an afternoon of books\, coffee\, and community featuring local book and artisan vendors\, a kids craft area\, a specialty event latte\, and cozy bookish vibes. Free to attend!
URL:https://discoverwylie.com/events/shoemaker-hardt-book-fair/
LOCATION:Shoemaker & Hardt\, 105 N Ballard Ave\, Wylie\, TX\, 75098\, United States
CATEGORIES:Books,Coffee
ATTACH;FMTTYPE=image/png:https://discoverwylie.com/wp-content/uploads/2026/03/Shoemaker-Hardt-2.png
END:VEVENT
BEGIN:VEVENT
DTSTART;TZID=America/Chicago:20260516T183000
DTEND;TZID=America/Chicago:20260516T203000
DTSTAMP:20260421T131257
CREATED:20260330T182050Z
LAST-MODIFIED:20260330T182050Z
UID:11503-1778956200-1778963400@discoverwylie.com
SUMMARY:Line Dancing
DESCRIPTION:Line-Dancing Class with instructor Diane Barriere\, Free! Bring your dancing boots and grab some friends for a fun night of dancing on the patio. Try our brewed-on-site beers and seltzers along with wood-fired pizza available from Pizza Di Vaio. This is the perfect date night! (Will be inside in event of rain).
URL:https://discoverwylie.com/events/line-dancing-4/
LOCATION:Glen Echo Brewing\, 106 N Birmingham\, Wylie\, TX\, 75098\, United States
CATEGORIES:Beer,Dance,Food
ATTACH;FMTTYPE=image/png:https://discoverwylie.com/wp-content/uploads/2026/03/IMG_0654.png
END:VEVENT
BEGIN:VEVENT
DTSTART;TZID=America/Chicago:20260517T143000
DTEND;TZID=America/Chicago:20260517T163000
DTSTAMP:20260421T131257
CREATED:20260330T182723Z
LAST-MODIFIED:20260330T182723Z
UID:11509-1779028200-1779035400@discoverwylie.com
SUMMARY:Book Club @ Glen Echo Brewing
DESCRIPTION:Open to all men & women 21+. This monthly book club focuses on the thriller or suspense genre. All participants are encouraged to finish the book prior to the meeting; however\, this is not a requirement. Members are encouraged to bring a small snack to share. Book for this month: What Lies Between Us by John Marrs.
URL:https://discoverwylie.com/events/book-club-glen-echo-brewing-2/
LOCATION:Glen Echo Brewing\, 106 N Birmingham\, Wylie\, TX\, 75098\, United States
CATEGORIES:Beer,Books
ATTACH;FMTTYPE=image/png:https://discoverwylie.com/wp-content/uploads/2026/03/IMG_0656.png
END:VEVENT
BEGIN:VEVENT
DTSTART;TZID=America/Chicago:20260606T100000
DTEND;TZID=America/Chicago:20260606T110000
DTSTAMP:20260421T131257
CREATED:20260326T135312Z
LAST-MODIFIED:20260326T135312Z
UID:11478-1780740000-1780743600@discoverwylie.com
SUMMARY:Yoga in the Park
DESCRIPTION:We’re so excited to partner with Wylie Parks & Rec and The Brown House to bring this back to the community. \nYoga in the Park\nFirst Saturday of the month April to October @ 10AM\nThe Lawn at The Brown House\nFREE \nBring your mat\, water\, and anything you might want for comfort (a towel or blanket under the knees is always a good idea).
URL:https://discoverwylie.com/events/yoga-in-the-park-4/
LOCATION:Welcome Center at Brown House\, 301 N Ballard Ave\, Wylie\, TX\, 75098\, United States
CATEGORIES:Park,Yoga
ATTACH;FMTTYPE=image/png:https://discoverwylie.com/wp-content/uploads/2026/03/Monday-April-6th-@-7pm-1.png
END:VEVENT
BEGIN:VEVENT
DTSTART;TZID=America/Chicago:20260621T143000
DTEND;TZID=America/Chicago:20260621T163000
DTSTAMP:20260421T131257
CREATED:20260330T183008Z
LAST-MODIFIED:20260330T183008Z
UID:11511-1782052200-1782059400@discoverwylie.com
SUMMARY:Book Club @ Glen Echo Brewing
DESCRIPTION:Open to all men & women 21+. This monthly book club focuses on the thriller or suspense genre. All participants are encouraged to finish the book prior to the meeting; however\, this is not a requirement. Members are encouraged to bring a small snack to share. Book for this month: The Echo of Old Books by Barbara Davis.
URL:https://discoverwylie.com/events/book-club-glen-echo-brewing-3/
LOCATION:Glen Echo Brewing\, 106 N Birmingham\, Wylie\, TX\, 75098\, United States
CATEGORIES:Beer,Books
ATTACH;FMTTYPE=image/png:https://discoverwylie.com/wp-content/uploads/2026/03/IMG_0656.png
END:VEVENT
BEGIN:VEVENT
DTSTART;TZID=America/Chicago:20260704T100000
DTEND;TZID=America/Chicago:20260704T110000
DTSTAMP:20260421T131257
CREATED:20260326T135418Z
LAST-MODIFIED:20260326T135418Z
UID:11480-1783159200-1783162800@discoverwylie.com
SUMMARY:Yoga in the Park
DESCRIPTION:We’re so excited to partner with Wylie Parks & Rec and The Brown House to bring this back to the community. \nYoga in the Park\nFirst Saturday of the month April to October @ 10AM\nThe Lawn at The Brown House\nFREE \nBring your mat\, water\, and anything you might want for comfort (a towel or blanket under the knees is always a good idea).
URL:https://discoverwylie.com/events/yoga-in-the-park-5/
LOCATION:Welcome Center at Brown House\, 301 N Ballard Ave\, Wylie\, TX\, 75098\, United States
CATEGORIES:Park,Yoga
ATTACH;FMTTYPE=image/png:https://discoverwylie.com/wp-content/uploads/2026/03/Monday-April-6th-@-7pm-1.png
END:VEVENT
BEGIN:VEVENT
DTSTART;TZID=America/Chicago:20260801T100000
DTEND;TZID=America/Chicago:20260801T110000
DTSTAMP:20260421T131257
CREATED:20260326T140039Z
LAST-MODIFIED:20260326T140039Z
UID:11482-1785578400-1785582000@discoverwylie.com
SUMMARY:Yoga in the Park
DESCRIPTION:We’re so excited to partner with Wylie Parks & Rec and The Brown House to bring this back to the community. \nYoga in the Park\nFirst Saturday of the month April to October @ 10AM\nThe Lawn at The Brown House\nFREE \nBring your mat\, water\, and anything you might want for comfort (a towel or blanket under the knees is always a good idea).
URL:https://discoverwylie.com/events/yoga-in-the-park-6/
LOCATION:Welcome Center at Brown House\, 301 N Ballard Ave\, Wylie\, TX\, 75098\, United States
CATEGORIES:Park,Yoga
ATTACH;FMTTYPE=image/png:https://discoverwylie.com/wp-content/uploads/2026/03/Monday-April-6th-@-7pm-1.png
END:VEVENT
BEGIN:VEVENT
DTSTART;TZID=America/Chicago:20260905T100000
DTEND;TZID=America/Chicago:20260905T110000
DTSTAMP:20260421T131257
CREATED:20260326T140145Z
LAST-MODIFIED:20260326T140145Z
UID:11484-1788602400-1788606000@discoverwylie.com
SUMMARY:Yoga in the Park
DESCRIPTION:We’re so excited to partner with Wylie Parks & Rec and The Brown House to bring this back to the community. \nYoga in the Park\nFirst Saturday of the month April to October @ 10AM\nThe Lawn at The Brown House\nFREE \nBring your mat\, water\, and anything you might want for comfort (a towel or blanket under the knees is always a good idea).
URL:https://discoverwylie.com/events/yoga-in-the-park-7/
LOCATION:Welcome Center at Brown House\, 301 N Ballard Ave\, Wylie\, TX\, 75098\, United States
CATEGORIES:Park,Yoga
ATTACH;FMTTYPE=image/png:https://discoverwylie.com/wp-content/uploads/2026/03/Monday-April-6th-@-7pm-1.png
END:VEVENT
BEGIN:VEVENT
DTSTART;TZID=America/Chicago:20261003T100000
DTEND;TZID=America/Chicago:20261003T110000
DTSTAMP:20260421T131257
CREATED:20260326T140710Z
LAST-MODIFIED:20260326T140710Z
UID:11486-1791021600-1791025200@discoverwylie.com
SUMMARY:Yoga in the Park
DESCRIPTION:We’re so excited to partner with Wylie Parks & Rec and The Brown House to bring this back to the community. \nYoga in the Park\nFirst Saturday of the month April to October @ 10AM\nThe Lawn at The Brown House\nFREE \nBring your mat\, water\, and anything you might want for comfort (a towel or blanket under the knees is always a good idea).
URL:https://discoverwylie.com/events/yoga-in-the-park-8/
LOCATION:Welcome Center at Brown House\, 301 N Ballard Ave\, Wylie\, TX\, 75098\, United States
CATEGORIES:Park,Yoga
ATTACH;FMTTYPE=image/png:https://discoverwylie.com/wp-content/uploads/2026/03/Monday-April-6th-@-7pm-1.png
END:VEVENT
BEGIN:VEVENT
DTSTART;TZID=America/Chicago:20261231T160000
DTEND;TZID=America/Chicago:20261231T210000
DTSTAMP:20260421T131257
CREATED:20260224T155859Z
LAST-MODIFIED:20260224T155859Z
UID:11336-1798732800-1798750800@discoverwylie.com
SUMMARY:Midnight in Munich
DESCRIPTION:Celebrate NYE on Munich\, Germany\, time …5 PM our time. Pre-party at the brewery before going to a bigger celebration\, or make it a fun night with us and be on your couch in your PJs by 10.
URL:https://discoverwylie.com/events/midnight-in-munich-2/
LOCATION:Glen Echo Brewing\, 106 N Birmingham\, Wylie\, TX\, 75098\, United States
CATEGORIES:Beer,New Year's
ATTACH;FMTTYPE=image/png:https://discoverwylie.com/wp-content/uploads/2026/02/IMG_0118.png
END:VEVENT
END:VCALENDAR